Workbook

Sheet Turnos
A1: AppTiempo · Horas extras por marcaciones 2026 | E1: =HYPERLINK("#'Resumen'!A1","Total por empleado en «Resumen» →") -> Total por empleado en «Resumen» →
A2: Una fila por turno. Entrada y salida con fecha y hora, por ejemplo 23/08/2026 23:15. Las filas amarillas son ejemplos: escribe encima o bórralas. | E2: Festivos en «Festivos 2026»; jornada, divisor y factores por fecha en «Parámetros».
A3: Empleado | B3: Cédula | C3: Salario mensual | D3: Total a pagar | E3: Entrada | F3: Salida | G3: Descanso (min) | H3: Compensatorio (Sí/No) | I3: Horas trabajadas | J3: Valor hora | K3: HE diurna (horas) | L3: HE nocturna (horas) | M3: Recargo nocturno (horas) | N3: Dominical con compensatorio (horas) | O3: Dominical sin compensatorio (horas) | P3: Nocturno dominical (horas) | Q3: HE dominical diurna (horas) | R3: HE dominical nocturna (horas) | S3: calc ok | T3: calc per | U3: calc lim | V3: calc dur | W3: calc brk | X3: calc bs | Y3: calc be | Z3: calc tc | AA3: calc m | AB3: calc h1 | AC3: calc h2 | AD3: calc bo | AE3: calc OL1 | AF3: calc ON1 | AG3: calc OL2 | AH3: calc ON2 | AI3: calc XL1 | AJ3: calc XN1 | AK3: calc XL2 | AL3: calc XN2 | AM3: calc BL1 | AN3: calc BN1 | AO3: calc BL2 | AP3: calc BN2 | AQ3: calc od1 | AR3: calc on1 | AS3: calc xd1 | AT3: calc xn1 | AU3: calc od2 | AV3: calc on2 | AW3: calc xd2 | AX3: calc xn2
A4: Ana — cocinera | B4: 1001 | C4: 1750905 | D4: =IF(J4="","",J4*(K4*INDEX('Parámetros'!$E$5:$E$7,T4)+L4*INDEX('Parámetros'!$F$5:$F$7,T4)+M4*INDEX('Parámetros'!$G$5:$G$7,T4)+N4*INDEX('Parámetros'!$H$5:$H$7,T4)+O4*INDEX('Parámetros'!$I$5:$I$7,T4)+P4*INDEX('Parámetros'!$J$5:$J$7,T4)+Q4*INDEX('Parámetros'!$K$5:$K$7,T4)+R4*INDEX('Parámetros'!$L$5:$L$7,T4))) | E4: 46258.333 | F4: 46258.708 | G4: 60 | H4: No | I4: =IF(AND(E4="",F4=""),"",IF(S4=1,(V4-W4)/60,"Revisa entrada y salida")) | J4: =IF(OR(S4<>1,C4=""),"",C4/INDEX('Parámetros'!$D$5:$D$7,T4)) | K4: =IF(S4=1,ROUND(1440*((1-AB4)*AS4+(1-AC4)*AW4),0)/60,"") | L4: =IF(S4=1,ROUND(1440*((1-AB4)*AT4+(1-AC4)*AX4),0)/60,"") | M4: =IF(S4=1,ROUND(1440*((1-AB4)*AR4+(1-AC4)*AV4),0)/60,"") | N4: =IF(S4=1,ROUND(1440*(IF(OR(H4="Sí",H4="Si"),AB4*AQ4+AC4*AU4,0)),0)/60,"") | O4: =IF(S4=1,ROUND(1440*(IF(OR(H4="Sí",H4="Si"),0,AB4*AQ4+AC4*AU4)),0)/60,"") | P4: =IF(S4=1,ROUND(1440*(AB4*AR4+AC4*AV4),0)/60,"") | Q4: =IF(S4=1,ROUND(1440*(AB4*AS4+AC4*AW4),0)/60,"") | R4: =IF(S4=1,ROUND(1440*(AB4*AT4+AC4*AX4),0)/60,"") | S4: =IF(AND(ISNUMBER(E4),ISNUMBER(F4)),IF(AND(F4>E4,YEAR(E4)=2026,(F4-E4)*1440<=1140),1,0),0) | T4: =IF(S4=1,MATCH(INT(E4),'Parámetros'!$A$5:$A$7,1),"") | U4: =IF(S4=1,INDEX('Parámetros'!$C$5:$C$7,T4)/24,"") | V4: =IF(S4=1,ROUND((F4-E4)*1440,0),"") | W4: =IF(S4=1,MIN(N(G4),V4),"") | X4: =IF(S4=1,E4+(INT(V4/2)-INT(W4/2))/1440,"") | Y4: =IF(S4=1,X4+W4/1440,"") | Z4: =IF(S4=1,MIN(F4,IF(E4+U4<=X4,E4+U4,E4+U4+W4/1440)),"") | AA4: =IF(S4=1,INT(E4)+1,"") | AB4: =IF(S4=1,IF(OR(WEEKDAY(AA4-1)=1,COUNTIF('Festivos 2026'!$A$5:$A$40,AA4-1)>0),1,0),"") | AC4: =IF(S4=1,IF(OR(WEEKDAY(AA4)=1,COUNTIF('Festivos 2026'!$A$5:$A$40,AA4)>0),1,0),"") | AD4: =IF(S4=1,IF(Y4<=Z4,1,0),"") | AE4: =IF(S4=1,MAX(0,MIN(Z4,AA4)-E4),"") | AF4: =IF(S4=1,MAX(0,MIN(MIN(Z4,AA4),(AA4-1)+6/24)-E4)+MAX(0,MIN(Z4,AA4)-MAX(E4,(AA4-1)+19/24)),"") | AG4: =IF(S4=1,MAX(0,Z4-MAX(E4,AA4)),"") | AH4: =IF(S4=1,MAX(0,MIN(Z4,AA4+6/24)-MAX(E4,AA4))+MAX(0,Z4-MAX(MAX(E4,AA4),AA4+19/24)),"") | AI4: =IF(S4=1,MAX(0,MIN(F4,AA4)-Z4),"") | AJ4: =IF(S4=1,MAX(0,MIN(MIN(F4,AA4),(AA4-1)+6/24)-Z4)+MAX(0,MIN(F4,AA4)-MAX(Z4,(AA4-1)+19/24)),"") | AK4: =IF(S4=1,MAX(0,F4-MAX(Z4,AA4)),"") | AL4: =IF(S4=1,MAX(0,MIN(F4,AA4+6/24)-MAX(Z4,AA4))+MAX(0,F4-MAX(MAX(Z4,AA4),AA4+19/24)),"") | AM4: =IF(S4=1,MAX(0,MIN(Y4,AA4)-X4),"") | AN4: =IF(S4=1,MAX(0,MIN(MIN(Y4,AA4),(AA4-1)+6/24)-X4)+MAX(0,MIN(Y4,AA4)-MAX(X4,(AA4-1)+19/24)),"") | AO4: =IF(S4=1,MAX(0,Y4-MAX(X4,AA4)),"") | AP4: =IF(S4=1,MAX(0,MIN(Y4,AA4+6/24)-MAX(X4,AA4))+MAX(0,Y4-MAX(MAX(X4,AA4),AA4+19/24)),"") | AQ4: =IF(S4=1,(AE4-AF4)-AD4*(AM4-AN4),"") | AR4: =IF(S4=1,AF4-AD4*AN4,"") | AS4: =IF(S4=1,(AI4-AJ4)-(1-AD4)*(AM4-AN4),"") | AT4: =IF(S4=1,AJ4-(1-AD4)*AN4,"") | AU4: =IF(S4=1,(AG4-AH4)-AD4*(AO4-AP4),"") | AV4: =IF(S4=1,AH4-AD4*AP4,"") | AW4: =IF(S4=1,(AK4-AL4)-(1-AD4)*(AO4-AP4),"") | AX4: =IF(S4=1,AL4-(1-AD4)*AP4,"")
A5: Luis — vigilante | B5: 1002 | C5: 1900000 | D5: =IF(J5="","",J5*(K5*INDEX('Parámetros'!$E$5:$E$7,T5)+L5*INDEX('Parámetros'!$F$5:$F$7,T5)+M5*INDEX('Parámetros'!$G$5:$G$7,T5)+N5*INDEX('Parámetros'!$H$5:$H$7,T5)+O5*INDEX('Parámetros'!$I$5:$I$7,T5)+P5*INDEX('Parámetros'!$J$5:$J$7,T5)+Q5*INDEX('Parámetros'!$K$5:$K$7,T5)+R5*INDEX('Parámetros'!$L$5:$L$7,T5))) | E5: 46256.75 | F5: 46257.083 | H5: No | I5: =IF(AND(E5="",F5=""),"",IF(S5=1,(V5-W5)/60,"Revisa entrada y salida")) | J5: =IF(OR(S5<>1,C5=""),"",C5/INDEX('Parámetros'!$D$5:$D$7,T5)) | K5: =IF(S5=1,ROUND(1440*((1-AB5)*AS5+(1-AC5)*AW5),0)/60,"") | L5: =IF(S5=1,ROUND(1440*((1-AB5)*AT5+(1-AC5)*AX5),0)/60,"") | M5: =IF(S5=1,ROUND(1440*((1-AB5)*AR5+(1-AC5)*AV5),0)/60,"") | N5: =IF(S5=1,ROUND(1440*(IF(OR(H5="Sí",H5="Si"),AB5*AQ5+AC5*AU5,0)),0)/60,"") | O5: =IF(S5=1,ROUND(1440*(IF(OR(H5="Sí",H5="Si"),0,AB5*AQ5+AC5*AU5)),0)/60,"") | P5: =IF(S5=1,ROUND(1440*(AB5*AR5+AC5*AV5),0)/60,"") | Q5: =IF(S5=1,ROUND(1440*(AB5*AS5+AC5*AW5),0)/60,"") | R5: =IF(S5=1,ROUND(1440*(AB5*AT5+AC5*AX5),0)/60,"") | S5: =IF(AND(ISNUMBER(E5),ISNUMBER(F5)),IF(AND(F5>E5,YEAR(E5)=2026,(F5-E5)*1440<=1140),1,0),0) | T5: =IF(S5=1,MATCH(INT(E5),'Parámetros'!$A$5:$A$7,1),"") | U5: =IF(S5=1,INDEX('Parámetros'!$C$5:$C$7,T5)/24,"") | V5: =IF(S5=1,ROUND((F5-E5)*1440,0),"") | W5: =IF(S5=1,MIN(N(G5),V5),"") | X5: =IF(S5=1,E5+(INT(V5/2)-INT(W5/2))/1440,"") | Y5: =IF(S5=1,X5+W5/1440,"") | Z5: =IF(S5=1,MIN(F5,IF(E5+U5<=X5,E5+U5,E5+U5+W5/1440)),"") | AA5: =IF(S5=1,INT(E5)+1,"") | AB5: =IF(S5=1,IF(OR(WEEKDAY(AA5-1)=1,COUNTIF('Festivos 2026'!$A$5:$A$40,AA5-1)>0),1,0),"") | AC5: =IF(S5=1,IF(OR(WEEKDAY(AA5)=1,COUNTIF('Festivos 2026'!$A$5:$A$40,AA5)>0),1,0),"") | AD5: =IF(S5=1,IF(Y5<=Z5,1,0),"") | AE5: =IF(S5=1,MAX(0,MIN(Z5,AA5)-E5),"") | AF5: =IF(S5=1,MAX(0,MIN(MIN(Z5,AA5),(AA5-1)+6/24)-E5)+MAX(0,MIN(Z5,AA5)-MAX(E5,(AA5-1)+19/24)),"") | AG5: =IF(S5=1,MAX(0,Z5-MAX(E5,AA5)),"") | AH5: =IF(S5=1,MAX(0,MIN(Z5,AA5+6/24)-MAX(E5,AA5))+MAX(0,Z5-MAX(MAX(E5,AA5),AA5+19/24)),"") | AI5: =IF(S5=1,MAX(0,MIN(F5,AA5)-Z5),"") | AJ5: =IF(S5=1,MAX(0,MIN(MIN(F5,AA5),(AA5-1)+6/24)-Z5)+MAX(0,MIN(F5,AA5)-MAX(Z5,(AA5-1)+19/24)),"") | AK5: =IF(S5=1,MAX(0,F5-MAX(Z5,AA5)),"") | AL5: =IF(S5=1,MAX(0,MIN(F5,AA5+6/24)-MAX(Z5,AA5))+MAX(0,F5-MAX(MAX(Z5,AA5),AA5+19/24)),"") | AM5: =IF(S5=1,MAX(0,MIN(Y5,AA5)-X5),"") | AN5: =IF(S5=1,MAX(0,MIN(MIN(Y5,AA5),(AA5-1)+6/24)-X5)+MAX(0,MIN(Y5,AA5)-MAX(X5,(AA5-1)+19/24)),"") | AO5: =IF(S5=1,MAX(0,Y5-MAX(X5,AA5)),"") | AP5: =IF(S5=1,MAX(0,MIN(Y5,AA5+6/24)-MAX(X5,AA5))+MAX(0,Y5-MAX(MAX(X5,AA5),AA5+19/24)),"") | AQ5: =IF(S5=1,(AE5-AF5)-AD5*(AM5-AN5),"") | AR5: =IF(S5=1,AF5-AD5*AN5,"") | AS5: =IF(S5=1,(AI5-AJ5)-(1-AD5)*(AM5-AN5),"") | AT5: =IF(S5=1,AJ5-(1-AD5)*AN5,"") | AU5: =IF(S5=1,(AG5-AH5)-AD5*(AO5-AP5),"") | AV5: =IF(S5=1,AH5-AD5*AP5,"") | AW5: =IF(S5=1,(AK5-AL5)-(1-AD5)*(AO5-AP5),"") | AX5: =IF(S5=1,AL5-(1-AD5)*AP5,"")
A6: Luis — vigilante | B6: 1002 | C6: 1900000 | D6: =IF(J6="","",J6*(K6*INDEX('Parámetros'!$E$5:$E$7,T6)+L6*INDEX('Parámetros'!$F$5:$F$7,T6)+M6*INDEX('Parámetros'!$G$5:$G$7,T6)+N6*INDEX('Parámetros'!$H$5:$H$7,T6)+O6*INDEX('Parámetros'!$I$5:$I$7,T6)+P6*INDEX('Parámetros'!$J$5:$J$7,T6)+Q6*INDEX('Parámetros'!$K$5:$K$7,T6)+R6*INDEX('Parámetros'!$L$5:$L$7,T6))) | E6: 46257.969 | F6: 46258.292 | H6: No | I6: =IF(AND(E6="",F6=""),"",IF(S6=1,(V6-W6)/60,"Revisa entrada y salida")) | J6: =IF(OR(S6<>1,C6=""),"",C6/INDEX('Parámetros'!$D$5:$D$7,T6)) | K6: =IF(S6=1,ROUND(1440*((1-AB6)*AS6+(1-AC6)*AW6),0)/60,"") | L6: =IF(S6=1,ROUND(1440*((1-AB6)*AT6+(1-AC6)*AX6),0)/60,"") | M6: =IF(S6=1,ROUND(1440*((1-AB6)*AR6+(1-AC6)*AV6),0)/60,"") | N6: =IF(S6=1,ROUND(1440*(IF(OR(H6="Sí",H6="Si"),AB6*AQ6+AC6*AU6,0)),0)/60,"") | O6: =IF(S6=1,ROUND(1440*(IF(OR(H6="Sí",H6="Si"),0,AB6*AQ6+AC6*AU6)),0)/60,"") | P6: =IF(S6=1,ROUND(1440*(AB6*AR6+AC6*AV6),0)/60,"") | Q6: =IF(S6=1,ROUND(1440*(AB6*AS6+AC6*AW6),0)/60,"") | R6: =IF(S6=1,ROUND(1440*(AB6*AT6+AC6*AX6),0)/60,"") | S6: =IF(AND(ISNUMBER(E6),ISNUMBER(F6)),IF(AND(F6>E6,YEAR(E6)=2026,(F6-E6)*1440<=1140),1,0),0) | T6: =IF(S6=1,MATCH(INT(E6),'Parámetros'!$A$5:$A$7,1),"") | U6: =IF(S6=1,INDEX('Parámetros'!$C$5:$C$7,T6)/24,"") | V6: =IF(S6=1,ROUND((F6-E6)*1440,0),"") | W6: =IF(S6=1,MIN(N(G6),V6),"") | X6: =IF(S6=1,E6+(INT(V6/2)-INT(W6/2))/1440,"") | Y6: =IF(S6=1,X6+W6/1440,"") | Z6: =IF(S6=1,MIN(F6,IF(E6+U6<=X6,E6+U6,E6+U6+W6/1440)),"") | AA6: =IF(S6=1,INT(E6)+1,"") | AB6: =IF(S6=1,IF(OR(WEEKDAY(AA6-1)=1,COUNTIF('Festivos 2026'!$A$5:$A$40,AA6-1)>0),1,0),"") | AC6: =IF(S6=1,IF(OR(WEEKDAY(AA6)=1,COUNTIF('Festivos 2026'!$A$5:$A$40,AA6)>0),1,0),"") | AD6: =IF(S6=1,IF(Y6<=Z6,1,0),"") | AE6: =IF(S6=1,MAX(0,MIN(Z6,AA6)-E6),"") | AF6: =IF(S6=1,MAX(0,MIN(MIN(Z6,AA6),(AA6-1)+6/24)-E6)+MAX(0,MIN(Z6,AA6)-MAX(E6,(AA6-1)+19/24)),"") | AG6: =IF(S6=1,MAX(0,Z6-MAX(E6,AA6)),"") | AH6: =IF(S6=1,MAX(0,MIN(Z6,AA6+6/24)-MAX(E6,AA6))+MAX(0,Z6-MAX(MAX(E6,AA6),AA6+19/24)),"") | AI6: =IF(S6=1,MAX(0,MIN(F6,AA6)-Z6),"") | AJ6: =IF(S6=1,MAX(0,MIN(MIN(F6,AA6),(AA6-1)+6/24)-Z6)+MAX(0,MIN(F6,AA6)-MAX(Z6,(AA6-1)+19/24)),"") | AK6: =IF(S6=1,MAX(0,F6-MAX(Z6,AA6)),"") | AL6: =IF(S6=1,MAX(0,MIN(F6,AA6+6/24)-MAX(Z6,AA6))+MAX(0,F6-MAX(MAX(Z6,AA6),AA6+19/24)),"") | AM6: =IF(S6=1,MAX(0,MIN(Y6,AA6)-X6),"") | AN6: =IF(S6=1,MAX(0,MIN(MIN(Y6,AA6),(AA6-1)+6/24)-X6)+MAX(0,MIN(Y6,AA6)-MAX(X6,(AA6-1)+19/24)),"") | AO6: =IF(S6=1,MAX(0,Y6-MAX(X6,AA6)),"") | AP6: =IF(S6=1,MAX(0,MIN(Y6,AA6+6/24)-MAX(X6,AA6))+MAX(0,Y6-MAX(MAX(X6,AA6),AA6+19/24)),"") | AQ6: =IF(S6=1,(AE6-AF6)-AD6*(AM6-AN6),"") | AR6: =IF(S6=1,AF6-AD6*AN6,"") | AS6: =IF(S6=1,(AI6-AJ6)-(1-AD6)*(AM6-AN6),"") | AT6: =IF(S6=1,AJ6-(1-AD6)*AN6,"") | AU6: =IF(S6=1,(AG6-AH6)-AD6*(AO6-AP6),"") | AV6: =IF(S6=1,AH6-AD6*AP6,"") | AW6: =IF(S6=1,(AK6-AL6)-(1-AD6)*(AO6-AP6),"") | AX6: =IF(S6=1,AL6-(1-AD6)*AP6,"")
A7: Marta — mesera | B7: 1003 | C7: 2100000 | D7: =IF(J7="","",J7*(K7*INDEX('Parámetros'!$E$5:$E$7,T7)+L7*INDEX('Parámetros'!$F$5:$F$7,T7)+M7*INDEX('Parámetros'!$G$5:$G$7,T7)+N7*INDEX('Parámetros'!$H$5:$H$7,T7)+O7*INDEX('Parámetros'!$I$5:$I$7,T7)+P7*INDEX('Parámetros'!$J$5:$J$7,T7)+Q7*INDEX('Parámetros'!$K$5:$K$7,T7)+R7*INDEX('Parámetros'!$L$5:$L$7,T7))) | E7: 46223.333 | F7: 46223.708 | H7: Sí | I7: =IF(AND(E7="",F7=""),"",IF(S7=1,(V7-W7)/60,"Revisa entrada y salida")) | J7: =IF(OR(S7<>1,C7=""),"",C7/INDEX('Parámetros'!$D$5:$D$7,T7)) | K7: =IF(S7=1,ROUND(1440*((1-AB7)*AS7+(1-AC7)*AW7),0)/60,"") | L7: =IF(S7=1,ROUND(1440*((1-AB7)*AT7+(1-AC7)*AX7),0)/60,"") | M7: =IF(S7=1,ROUND(1440*((1-AB7)*AR7+(1-AC7)*AV7),0)/60,"") | N7: =IF(S7=1,ROUND(1440*(IF(OR(H7="Sí",H7="Si"),AB7*AQ7+AC7*AU7,0)),0)/60,"") | O7: =IF(S7=1,ROUND(1440*(IF(OR(H7="Sí",H7="Si"),0,AB7*AQ7+AC7*AU7)),0)/60,"") | P7: =IF(S7=1,ROUND(1440*(AB7*AR7+AC7*AV7),0)/60,"") | Q7: =IF(S7=1,ROUND(1440*(AB7*AS7+AC7*AW7),0)/60,"") | R7: =IF(S7=1,ROUND(1440*(AB7*AT7+AC7*AX7),0)/60,"") | S7: =IF(AND(ISNUMBER(E7),ISNUMBER(F7)),IF(AND(F7>E7,YEAR(E7)=2026,(F7-E7)*1440<=1140),1,0),0) | T7: =IF(S7=1,MATCH(INT(E7),'Parámetros'!$A$5:$A$7,1),"") | U7: =IF(S7=1,INDEX('Parámetros'!$C$5:$C$7,T7)/24,"") | V7: =IF(S7=1,ROUND((F7-E7)*1440,0),"") | W7: =IF(S7=1,MIN(N(G7),V7),"") | X7: =IF(S7=1,E7+(INT(V7/2)-INT(W7/2))/1440,"") | Y7: =IF(S7=1,X7+W7/1440,"") | Z7: =IF(S7=1,MIN(F7,IF(E7+U7<=X7,E7+U7,E7+U7+W7/1440)),"") | AA7: =IF(S7=1,INT(E7)+1,"") | AB7: =IF(S7=1,IF(OR(WEEKDAY(AA7-1)=1,COUNTIF('Festivos 2026'!$A$5:$A$40,AA7-1)>0),1,0),"") | AC7: =IF(S7=1,IF(OR(WEEKDAY(AA7)=1,COUNTIF('Festivos 2026'!$A$5:$A$40,AA7)>0),1,0),"") | AD7: =IF(S7=1,IF(Y7<=Z7,1,0),"") | AE7: =IF(S7=1,MAX(0,MIN(Z7,AA7)-E7),"") | AF7: =IF(S7=1,MAX(0,MIN(MIN(Z7,AA7),(AA7-1)+6/24)-E7)+MAX(0,MIN(Z7,AA7)-MAX(E7,(AA7-1)+19/24)),"") | AG7: =IF(S7=1,MAX(0,Z7-MAX(E7,AA7)),"") | AH7: =IF(S7=1,MAX(0,MIN(Z7,AA7+6/24)-MAX(E7,AA7))+MAX(0,Z7-MAX(MAX(E7,AA7),AA7+19/24)),"") | AI7: =IF(S7=1,MAX(0,MIN(F7,AA7)-Z7),"") | AJ7: =IF(S7=1,MAX(0,MIN(MIN(F7,AA7),(AA7-1)+6/24)-Z7)+MAX(0,MIN(F7,AA7)-MAX(Z7,(AA7-1)+19/24)),"") | AK7: =IF(S7=1,MAX(0,F7-MAX(Z7,AA7)),"") | AL7: =IF(S7=1,MAX(0,MIN(F7,AA7+6/24)-MAX(Z7,AA7))+MAX(0,F7-MAX(MAX(Z7,AA7),AA7+19/24)),"") | AM7: =IF(S7=1,MAX(0,MIN(Y7,AA7)-X7),"") | AN7: =IF(S7=1,MAX(0,MIN(MIN(Y7,AA7),(AA7-1)+6/24)-X7)+MAX(0,MIN(Y7,AA7)-MAX(X7,(AA7-1)+19/24)),"") | AO7: =IF(S7=1,MAX(0,Y7-MAX(X7,AA7)),"") | AP7: =IF(S7=1,MAX(0,MIN(Y7,AA7+6/24)-MAX(X7,AA7))+MAX(0,Y7-MAX(MAX(X7,AA7),AA7+19/24)),"") | AQ7: =IF(S7=1,(AE7-AF7)-AD7*(AM7-AN7),"") | AR7: =IF(S7=1,AF7-AD7*AN7,"") | AS7: =IF(S7=1,(AI7-AJ7)-(1-AD7)*(AM7-AN7),"") | AT7: =IF(S7=1,AJ7-(1-AD7)*AN7,"") | AU7: =IF(S7=1,(AG7-AH7)-AD7*(AO7-AP7),"") | AV7: =IF(S7=1,AH7-AD7*AP7,"") | AW7: =IF(S7=1,(AK7-AL7)-(1-AD7)*(AO7-AP7),"") | AX7: =IF(S7=1,AL7-(1-AD7)*AP7,"")
A8: Marta — mesera | B8: 1003 | C8: 2100000 | D8: =IF(J8="","",J8*(K8*INDEX('Parámetros'!$E$5:$E$7,T8)+L8*INDEX('Parámetros'!$F$5:$F$7,T8)+M8*INDEX('Parámetros'!$G$5:$G$7,T8)+N8*INDEX('Parámetros'!$H$5:$H$7,T8)+O8*INDEX('Parámetros'!$I$5:$I$7,T8)+P8*INDEX('Parámetros'!$J$5:$J$7,T8)+Q8*INDEX('Parámetros'!$K$5:$K$7,T8)+R8*INDEX('Parámetros'!$L$5:$L$7,T8))) | E8: 46202.333 | F8: 46202.708 | H8: No | I8: =IF(AND(E8="",F8=""),"",IF(S8=1,(V8-W8)/60,"Revisa entrada y salida")) | J8: =IF(OR(S8<>1,C8=""),"",C8/INDEX('Parámetros'!$D$5:$D$7,T8)) | K8: =IF(S8=1,ROUND(1440*((1-AB8)*AS8+(1-AC8)*AW8),0)/60,"") | L8: =IF(S8=1,ROUND(1440*((1-AB8)*AT8+(1-AC8)*AX8),0)/60,"") | M8: =IF(S8=1,ROUND(1440*((1-AB8)*AR8+(1-AC8)*AV8),0)/60,"") | N8: =IF(S8=1,ROUND(1440*(IF(OR(H8="Sí",H8="Si"),AB8*AQ8+AC8*AU8,0)),0)/60,"") | O8: =IF(S8=1,ROUND(1440*(IF(OR(H8="Sí",H8="Si"),0,AB8*AQ8+AC8*AU8)),0)/60,"") | P8: =IF(S8=1,ROUND(1440*(AB8*AR8+AC8*AV8),0)/60,"") | Q8: =IF(S8=1,ROUND(1440*(AB8*AS8+AC8*AW8),0)/60,"") | R8: =IF(S8=1,ROUND(1440*(AB8*AT8+AC8*AX8),0)/60,"") | S8: =IF(AND(ISNUMBER(E8),ISNUMBER(F8)),IF(AND(F8>E8,YEAR(E8)=2026,(F8-E8)*1440<=1140),1,0),0) | T8: =IF(S8=1,MATCH(INT(E8),'Parámetros'!$A$5:$A$7,1),"") | U8: =IF(S8=1,INDEX('Parámetros'!$C$5:$C$7,T8)/24,"") | V8: =IF(S8=1,ROUND((F8-E8)*1440,0),"") | W8: =IF(S8=1,MIN(N(G8),V8),"") | X8: =IF(S8=1,E8+(INT(V8/2)-INT(W8/2))/1440,"") | Y8: =IF(S8=1,X8+W8/1440,"") | Z8: =IF(S8=1,MIN(F8,IF(E8+U8<=X8,E8+U8,E8+U8+W8/1440)),"") | AA8: =IF(S8=1,INT(E8)+1,"") | AB8: =IF(S8=1,IF(OR(WEEKDAY(AA8-1)=1,COUNTIF('Festivos 2026'!$A$5:$A$40,AA8-1)>0),1,0),"") | AC8: =IF(S8=1,IF(OR(WEEKDAY(AA8)=1,COUNTIF('Festivos 2026'!$A$5:$A$40,AA8)>0),1,0),"") | AD8: =IF(S8=1,IF(Y8<=Z8,1,0),"") | AE8: =IF(S8=1,MAX(0,MIN(Z8,AA8)-E8),"") | AF8: =IF(S8=1,MAX(0,MIN(MIN(Z8,AA8),(AA8-1)+6/24)-E8)+MAX(0,MIN(Z8,AA8)-MAX(E8,(AA8-1)+19/24)),"") | AG8: =IF(S8=1,MAX(0,Z8-MAX(E8,AA8)),"") | AH8: =IF(S8=1,MAX(0,MIN(Z8,AA8+6/24)-MAX(E8,AA8))+MAX(0,Z8-MAX(MAX(E8,AA8),AA8+19/24)),"") | AI8: =IF(S8=1,MAX(0,MIN(F8,AA8)-Z8),"") | AJ8: =IF(S8=1,MAX(0,MIN(MIN(F8,AA8),(AA8-1)+6/24)-Z8)+MAX(0,MIN(F8,AA8)-MAX(Z8,(AA8-1)+19/24)),"") | AK8: =IF(S8=1,MAX(0,F8-MAX(Z8,AA8)),"") | AL8: =IF(S8=1,MAX(0,MIN(F8,AA8+6/24)-MAX(Z8,AA8))+MAX(0,F8-MAX(MAX(Z8,AA8),AA8+19/24)),"") | AM8: =IF(S8=1,MAX(0,MIN(Y8,AA8)-X8),"") | AN8: =IF(S8=1,MAX(0,MIN(MIN(Y8,AA8),(AA8-1)+6/24)-X8)+MAX(0,MIN(Y8,AA8)-MAX(X8,(AA8-1)+19/24)),"") | AO8: =IF(S8=1,MAX(0,Y8-MAX(X8,AA8)),"") | AP8: =IF(S8=1,MAX(0,MIN(Y8,AA8+6/24)-MAX(X8,AA8))+MAX(0,Y8-MAX(MAX(X8,AA8),AA8+19/24)),"") | AQ8: =IF(S8=1,(AE8-AF8)-AD8*(AM8-AN8),"") | AR8: =IF(S8=1,AF8-AD8*AN8,"") | AS8: =IF(S8=1,(AI8-AJ8)-(1-AD8)*(AM8-AN8),"") | AT8: =IF(S8=1,AJ8-(1-AD8)*AN8,"") | AU8: =IF(S8=1,(AG8-AH8)-AD8*(AO8-AP8),"") | AV8: =IF(S8=1,AH8-AD8*AP8,"") | AW8: =IF(S8=1,(AK8-AL8)-(1-AD8)*(AO8-AP8),"") | AX8: =IF(S8=1,AL8-(1-AD8)*AP8,"")
D9: =IF(J9="","",J9*(K9*INDEX('Parámetros'!$E$5:$E$7,T9)+L9*INDEX('Parámetros'!$F$5:$F$7,T9)+M9*INDEX('Parámetros'!$G$5:$G$7,T9)+N9*INDEX('Parámetros'!$H$5:$H$7,T9)+O9*INDEX('Parámetros'!$I$5:$I$7,T9)+P9*INDEX('Parámetros'!$J$5:$J$7,T9)+Q9*INDEX('Parámetros'!$K$5:$K$7,T9)+R9*INDEX('Parámetros'!$L$5:$L$7,T9))) | I9: =IF(AND(E9="",F9=""),"",IF(S9=1,(V9-W9)/60,"Revisa entrada y salida")) | J9: =IF(OR(S9<>1,C9=""),"",C9/INDEX('Parámetros'!$D$5:$D$7,T9)) | K9: =IF(S9=1,ROUND(1440*((1-AB9)*AS9+(1-AC9)*AW9),0)/60,"") | L9: =IF(S9=1,ROUND(1440*((1-AB9)*AT9+(1-AC9)*AX9),0)/60,"") | M9: =IF(S9=1,ROUND(1440*((1-AB9)*AR9+(1-AC9)*AV9),0)/60,"") | N9: =IF(S9=1,ROUND(1440*(IF(OR(H9="Sí",H9="Si"),AB9*AQ9+AC9*AU9,0)),0)/60,"") | O9: =IF(S9=1,ROUND(1440*(IF(OR(H9="Sí",H9="Si"),0,AB9*AQ9+AC9*AU9)),0)/60,"") | P9: =IF(S9=1,ROUND(1440*(AB9*AR9+AC9*AV9),0)/60,"") | Q9: =IF(S9=1,ROUND(1440*(AB9*AS9+AC9*AW9),0)/60,"") | R9: =IF(S9=1,ROUND(1440*(AB9*AT9+AC9*AX9),0)/60,"") | S9: =IF(AND(ISNUMBER(E9),ISNUMBER(F9)),IF(AND(F9>E9,YEAR(E9)=2026,(F9-E9)*1440<=1140),1,0),0) | T9: =IF(S9=1,MATCH(INT(E9),'Parámetros'!$A$5:$A$7,1),"") | U9: =IF(S9=1,INDEX('Parámetros'!$C$5:$C$7,T9)/24,"") | V9: =IF(S9=1,ROUND((F9-E9)*1440,0),"") | W9: =IF(S9=1,MIN(N(G9),V9),"") | X9: =IF(S9=1,E9+(INT(V9/2)-INT(W9/2))/1440,"") | Y9: =IF(S9=1,X9+W9/1440,"") | Z9: =IF(S9=1,MIN(F9,IF(E9+U9<=X9,E9+U9,E9+U9+W9/1440)),"") | AA9: =IF(S9=1,INT(E9)+1,"") | AB9: =IF(S9=1,IF(OR(WEEKDAY(AA9-1)=1,COUNTIF('Festivos 2026'!$A$5:$A$40,AA9-1)>0),1,0),"") | AC9: =IF(S9=1,IF(OR(WEEKDAY(AA9)=1,COUNTIF('Festivos 2026'!$A$5:$A$40,AA9)>0),1,0),"") | AD9: =IF(S9=1,IF(Y9<=Z9,1,0),"") | AE9: =IF(S9=1,MAX(0,MIN(Z9,AA9)-E9),"") | AF9: =IF(S9=1,MAX(0,MIN(MIN(Z9,AA9),(AA9-1)+6/24)-E9)+MAX(0,MIN(Z9,AA9)-MAX(E9,(AA9-1)+19/24)),"") | AG9: =IF(S9=1,MAX(0,Z9-MAX(E9,AA9)),"") | AH9: =IF(S9=1,MAX(0,MIN(Z9,AA9+6/24)-MAX(E9,AA9))+MAX(0,Z9-MAX(MAX(E9,AA9),AA9+19/24)),"") | AI9: =IF(S9=1,MAX(0,MIN(F9,AA9)-Z9),"") | AJ9: =IF(S9=1,MAX(0,MIN(MIN(F9,AA9),(AA9-1)+6/24)-Z9)+MAX(0,MIN(F9,AA9)-MAX(Z9,(AA9-1)+19/24)),"") | AK9: =IF(S9=1,MAX(0,F9-MAX(Z9,AA9)),"") | AL9: =IF(S9=1,MAX(0,MIN(F9,AA9+6/24)-MAX(Z9,AA9))+MAX(0,F9-MAX(MAX(Z9,AA9),AA9+19/24)),"") | AM9: =IF(S9=1,MAX(0,MIN(Y9,AA9)-X9),"") | AN9: =IF(S9=1,MAX(0,MIN(MIN(Y9,AA9),(AA9-1)+6/24)-X9)+MAX(0,MIN(Y9,AA9)-MAX(X9,(AA9-1)+19/24)),"") | AO9: =IF(S9=1,MAX(0,Y9-MAX(X9,AA9)),"") | AP9: =IF(S9=1,MAX(0,MIN(Y9,AA9+6/24)-MAX(X9,AA9))+MAX(0,Y9-MAX(MAX(X9,AA9),AA9+19/24)),"") | AQ9: =IF(S9=1,(AE9-AF9)-AD9*(AM9-AN9),"") | AR9: =IF(S9=1,AF9-AD9*AN9,"") | AS9: =IF(S9=1,(AI9-AJ9)-(1-AD9)*(AM9-AN9),"") | AT9: =IF(S9=1,AJ9-(1-AD9)*AN9,"") | AU9: =IF(S9=1,(AG9-AH9)-AD9*(AO9-AP9),"") | AV9: =IF(S9=1,AH9-AD9*AP9,"") | AW9: =IF(S9=1,(AK9-AL9)-(1-AD9)*(AO9-AP9),"") | AX9: =IF(S9=1,AL9-(1-AD9)*AP9,"")
D10: =IF(J10="","",J10*(K10*INDEX('Parámetros'!$E$5:$E$7,T10)+L10*INDEX('Parámetros'!$F$5:$F$7,T10)+M10*INDEX('Parámetros'!$G$5:$G$7,T10)+N10*INDEX('Parámetros'!$H$5:$H$7,T10)+O10*INDEX('Parámetros'!$I$5:$I$7,T10)+P10*INDEX('Parámetros'!$J$5:$J$7,T10)+Q10*INDEX('Parámetros'!$K$5:$K$7,T10)+R10*INDEX('Parámetros'!$L$5:$L$7,T10))) | I10: =IF(AND(E10="",F10=""),"",IF(S10=1,(V10-W10)/60,"Revisa entrada y salida")) | J10: =IF(OR(S10<>1,C10=""),"",C10/INDEX('Parámetros'!$D$5:$D$7,T10)) | K10: =IF(S10=1,ROUND(1440*((1-AB10)*AS10+(1-AC10)*AW10),0)/60,"") | L10: =IF(S10=1,ROUND(1440*((1-AB10)*AT10+(1-AC10)*AX10),0)/60,"") | M10: =IF(S10=1,ROUND(1440*((1-AB10)*AR10+(1-AC10)*AV10),0)/60,"") | N10: =IF(S10=1,ROUND(1440*(IF(OR(H10="Sí",H10="Si"),AB10*AQ10+AC10*AU10,0)),0)/60,"") | O10: =IF(S10=1,ROUND(1440*(IF(OR(H10="Sí",H10="Si"),0,AB10*AQ10+AC10*AU10)),0)/60,"") | P10: =IF(S10=1,ROUND(1440*(AB10*AR10+AC10*AV10),0)/60,"") | Q10: =IF(S10=1,ROUND(1440*(AB10*AS10+AC10*AW10),0)/60,"") | R10: =IF(S10=1,ROUND(1440*(AB10*AT10+AC10*AX10),0)/60,"") | S10: =IF(AND(ISNUMBER(E10),ISNUMBER(F10)),IF(AND(F10>E10,YEAR(E10)=2026,(F10-E10)*1440<=1140),1,0),0) | T10: =IF(S10=1,MATCH(INT(E10),'Parámetros'!$A$5:$A$7,1),"") | U10: =IF(S10=1,INDEX('Parámetros'!$C$5:$C$7,T10)/24,"") | V10: =IF(S10=1,ROUND((F10-E10)*1440,0),"") | W10: =IF(S10=1,MIN(N(G10),V10),"") | X10: =IF(S10=1,E10+(INT(V10/2)-INT(W10/2))/1440,"") | Y10: =IF(S10=1,X10+W10/1440,"") | Z10: =IF(S10=1,MIN(F10,IF(E10+U10<=X10,E10+U10,E10+U10+W10/1440)),"") | AA10: =IF(S10=1,INT(E10)+1,"") | AB10: =IF(S10=1,IF(OR(WEEKDAY(AA10-1)=1,COUNTIF('Festivos 2026'!$A$5:$A$40,AA10-1)>0),1,0),"") | AC10: =IF(S10=1,IF(OR(WEEKDAY(AA10)=1,COUNTIF('Festivos 2026'!$A$5:$A$40,AA10)>0),1,0),"") | AD10: =IF(S10=1,IF(Y10<=Z10,1,0),"") | AE10: =IF(S10=1,MAX(0,MIN(Z10,AA10)-E10),"") | AF10: =IF(S10=1,MAX(0,MIN(MIN(Z10,AA10),(AA10-1)+6/24)-E10)+MAX(0,MIN(Z10,AA10)-MAX(E10,(AA10-1)+19/24)),"") | AG10: =IF(S10=1,MAX(0,Z10-MAX(E10,AA10)),"") | AH10: =IF(S10=1,MAX(0,MIN(Z10,AA10+6/24)-MAX(E10,AA10))+MAX(0,Z10-MAX(MAX(E10,AA10),AA10+19/24)),"") | AI10: =IF(S10=1,MAX(0,MIN(F10,AA10)-Z10),"") | AJ10: =IF(S10=1,MAX(0,MIN(MIN(F10,AA10),(AA10-1)+6/24)-Z10)+MAX(0,MIN(F10,AA10)-MAX(Z10,(AA10-1)+19/24)),"") | AK10: =IF(S10=1,MAX(0,F10-MAX(Z10,AA10)),"") | AL10: =IF(S10=1,MAX(0,MIN(F10,AA10+6/24)-MAX(Z10,AA10))+MAX(0,F10-MAX(MAX(Z10,AA10),AA10+19/24)),"") | AM10: =IF(S10=1,MAX(0,MIN(Y10,AA10)-X10),"") | AN10: =IF(S10=1,MAX(0,MIN(MIN(Y10,AA10),(AA10-1)+6/24)-X10)+MAX(0,MIN(Y10,AA10)-MAX(X10,(AA10-1)+19/24)),"") | AO10: =IF(S10=1,MAX(0,Y10-MAX(X10,AA10)),"") | AP10: =IF(S10=1,MAX(0,MIN(Y10,AA10+6/24)-MAX(X10,AA10))+MAX(0,Y10-MAX(MAX(X10,AA10),AA10+19/24)),"") | AQ10: =IF(S10=1,(AE10-AF10)-AD10*(AM10-AN10),"") | AR10: =IF(S10=1,AF10-AD10*AN10,"") | AS10: =IF(S10=1,(AI10-AJ10)-(1-AD10)*(AM10-AN10),"") | AT10: =IF(S10=1,AJ10-(1-AD10)*AN10,"") | AU10: =IF(S10=1,(AG10-AH10)-AD10*(AO10-AP10),"") | AV10: =IF(S10=1,AH10-AD10*AP10,"") | AW10: =IF(S10=1,(AK10-AL10)-(1-AD10)*(AO10-AP10),"") | AX10: =IF(S10=1,AL10-(1-AD10)*AP10,"")
D11: =IF(J11="","",J11*(K11*INDEX('Parámetros'!$E$5:$E$7,T11)+L11*INDEX('Parámetros'!$F$5:$F$7,T11)+M11*INDEX('Parámetros'!$G$5:$G$7,T11)+N11*INDEX('Parámetros'!$H$5:$H$7,T11)+O11*INDEX('Parámetros'!$I$5:$I$7,T11)+P11*INDEX('Parámetros'!$J$5:$J$7,T11)+Q11*INDEX('Parámetros'!$K$5:$K$7,T11)+R11*INDEX('Parámetros'!$L$5:$L$7,T11))) | I11: =IF(AND(E11="",F11=""),"",IF(S11=1,(V11-W11)/60,"Revisa entrada y salida")) | J11: =IF(OR(S11<>1,C11=""),"",C11/INDEX('Parámetros'!$D$5:$D$7,T11)) | K11: =IF(S11=1,ROUND(1440*((1-AB11)*AS11+(1-AC11)*AW11),0)/60,"") | L11: =IF(S11=1,ROUND(1440*((1-AB11)*AT11+(1-AC11)*AX11),0)/60,"") | M11: =IF(S11=1,ROUND(1440*((1-AB11)*AR11+(1-AC11)*AV11),0)/60,"") | N11: =IF(S11=1,ROUND(1440*(IF(OR(H11="Sí",H11="Si"),AB11*AQ11+AC11*AU11,0)),0)/60,"") | O11: =IF(S11=1,ROUND(1440*(IF(OR(H11="Sí",H11="Si"),0,AB11*AQ11+AC11*AU11)),0)/60,"") | P11: =IF(S11=1,ROUND(1440*(AB11*AR11+AC11*AV11),0)/60,"") | Q11: =IF(S11=1,ROUND(1440*(AB11*AS11+AC11*AW11),0)/60,"") | R11: =IF(S11=1,ROUND(1440*(AB11*AT11+AC11*AX11),0)/60,"") | S11: =IF(AND(ISNUMBER(E11),ISNUMBER(F11)),IF(AND(F11>E11,YEAR(E11)=2026,(F11-E11)*1440<=1140),1,0),0) | T11: =IF(S11=1,MATCH(INT(E11),'Parámetros'!$A$5:$A$7,1),"") | U11: =IF(S11=1,INDEX('Parámetros'!$C$5:$C$7,T11)/24,"") | V11: =IF(S11=1,ROUND((F11-E11)*1440,0),"") | W11: =IF(S11=1,MIN(N(G11),V11),"") | X11: =IF(S11=1,E11+(INT(V11/2)-INT(W11/2))/1440,"") | Y11: =IF(S11=1,X11+W11/1440,"") | Z11: =IF(S11=1,MIN(F11,IF(E11+U11<=X11,E11+U11,E11+U11+W11/1440)),"") | AA11: =IF(S11=1,INT(E11)+1,"") | AB11: =IF(S11=1,IF(OR(WEEKDAY(AA11-1)=1,COUNTIF('Festivos 2026'!$A$5:$A$40,AA11-1)>0),1,0),"") | AC11: =IF(S11=1,IF(OR(WEEKDAY(AA11)=1,COUNTIF('Festivos 2026'!$A$5:$A$40,AA11)>0),1,0),"") | AD11: =IF(S11=1,IF(Y11<=Z11,1,0),"") | AE11: =IF(S11=1,MAX(0,MIN(Z11,AA11)-E11),"") | AF11: =IF(S11=1,MAX(0,MIN(MIN(Z11,AA11),(AA11-1)+6/24)-E11)+MAX(0,MIN(Z11,AA11)-MAX(E11,(AA11-1)+19/24)),"") | AG11: =IF(S11=1,MAX(0,Z11-MAX(E11,AA11)),"") | AH11: =IF(S11=1,MAX(0,MIN(Z11,AA11+6/24)-MAX(E11,AA11))+MAX(0,Z11-MAX(MAX(E11,AA11),AA11+19/24)),"") | AI11: =IF(S11=1,MAX(0,MIN(F11,AA11)-Z11),"") | AJ11: =IF(S11=1,MAX(0,MIN(MIN(F11,AA11),(AA11-1)+6/24)-Z11)+MAX(0,MIN(F11,AA11)-MAX(Z11,(AA11-1)+19/24)),"") | AK11: =IF(S11=1,MAX(0,F11-MAX(Z11,AA11)),"") | AL11: =IF(S11=1,MAX(0,MIN(F11,AA11+6/24)-MAX(Z11,AA11))+MAX(0,F11-MAX(MAX(Z11,AA11),AA11+19/24)),"") | AM11: =IF(S11=1,MAX(0,MIN(Y11,AA11)-X11),"") | AN11: =IF(S11=1,MAX(0,MIN(MIN(Y11,AA11),(AA11-1)+6/24)-X11)+MAX(0,MIN(Y11,AA11)-MAX(X11,(AA11-1)+19/24)),"") | AO11: =IF(S11=1,MAX(0,Y11-MAX(X11,AA11)),"") | AP11: =IF(S11=1,MAX(0,MIN(Y11,AA11+6/24)-MAX(X11,AA11))+MAX(0,Y11-MAX(MAX(X11,AA11),AA11+19/24)),"") | AQ11: =IF(S11=1,(AE11-AF11)-AD11*(AM11-AN11),"") | AR11: =IF(S11=1,AF11-AD11*AN11,"") | AS11: =IF(S11=1,(AI11-AJ11)-(1-AD11)*(AM11-AN11),"") | AT11: =IF(S11=1,AJ11-(1-AD11)*AN11,"") | AU11: =IF(S11=1,(AG11-AH11)-AD11*(AO11-AP11),"") | AV11: =IF(S11=1,AH11-AD11*AP11,"") | AW11: =IF(S11=1,(AK11-AL11)-(1-AD11)*(AO11-AP11),"") | AX11: =IF(S11=1,AL11-(1-AD11)*AP11,"")
D12: =IF(J12="","",J12*(K12*INDEX('Parámetros'!$E$5:$E$7,T12)+L12*INDEX('Parámetros'!$F$5:$F$7,T12)+M12*INDEX('Parámetros'!$G$5:$G$7,T12)+N12*INDEX('Parámetros'!$H$5:$H$7,T12)+O12*INDEX('Parámetros'!$I$5:$I$7,T12)+P12*INDEX('Parámetros'!$J$5:$J$7,T12)+Q12*INDEX('Parámetros'!$K$5:$K$7,T12)+R12*INDEX('Parámetros'!$L$5:$L$7,T12))) | I12: =IF(AND(E12="",F12=""),"",IF(S12=1,(V12-W12)/60,"Revisa entrada y salida")) | J12: =IF(OR(S12<>1,C12=""),"",C12/INDEX('Parámetros'!$D$5:$D$7,T12)) | K12: =IF(S12=1,ROUND(1440*((1-AB12)*AS12+(1-AC12)*AW12),0)/60,"") | L12: =IF(S12=1,ROUND(1440*((1-AB12)*AT12+(1-AC12)*AX12),0)/60,"") | M12: =IF(S12=1,ROUND(1440*((1-AB12)*AR12+(1-AC12)*AV12),0)/60,"") | N12: =IF(S12=1,ROUND(1440*(IF(OR(H12="Sí",H12="Si"),AB12*AQ12+AC12*AU12,0)),0)/60,"") | O12: =IF(S12=1,ROUND(1440*(IF(OR(H12="Sí",H12="Si"),0,AB12*AQ12+AC12*AU12)),0)/60,"") | P12: =IF(S12=1,ROUND(1440*(AB12*AR12+AC12*AV12),0)/60,"") | Q12: =IF(S12=1,ROUND(1440*(AB12*AS12+AC12*AW12),0)/60,"") | R12: =IF(S12=1,ROUND(1440*(AB12*AT12+AC12*AX12),0)/60,"") | S12: =IF(AND(ISNUMBER(E12),ISNUMBER(F12)),IF(AND(F12>E12,YEAR(E12)=2026,(F12-E12)*1440<=1140),1,0),0) | T12: =IF(S12=1,MATCH(INT(E12),'Parámetros'!$A$5:$A$7,1),"") | U12: =IF(S12=1,INDEX('Parámetros'!$C$5:$C$7,T12)/24,"") | V12: =IF(S12=1,ROUND((F12-E12)*1440,0),"") | W12: =IF(S12=1,MIN(N(G12),V12),"") | X12: =IF(S12=1,E12+(INT(V12/2)-INT(W12/2))/1440,"") | Y12: =IF(S12=1,X12+W12/1440,"") | Z12: =IF(S12=1,MIN(F12,IF(E12+U12<=X12,E12+U12,E12+U12+W12/1440)),"") | AA12: =IF(S12=1,INT(E12)+1,"") | AB12: =IF(S12=1,IF(OR(WEEKDAY(AA12-1)=1,COUNTIF('Festivos 2026'!$A$5:$A$40,AA12-1)>0),1,0),"") | AC12: =IF(S12=1,IF(OR(WEEKDAY(AA12)=1,COUNTIF('Festivos 2026'!$A$5:$A$40,AA12)>0),1,0),"") | AD12: =IF(S12=1,IF(Y12<=Z12,1,0),"") | AE12: =IF(S12=1,MAX(0,MIN(Z12,AA12)-E12),"") | AF12: =IF(S12=1,MAX(0,MIN(MIN(Z12,AA12),(AA12-1)+6/24)-E12)+MAX(0,MIN(Z12,AA12)-MAX(E12,(AA12-1)+19/24)),"") | AG12: =IF(S12=1,MAX(0,Z12-MAX(E12,AA12)),"") | AH12: =IF(S12=1,MAX(0,MIN(Z12,AA12+6/24)-MAX(E12,AA12))+MAX(0,Z12-MAX(MAX(E12,AA12),AA12+19/24)),"") | AI12: =IF(S12=1,MAX(0,MIN(F12,AA12)-Z12),"") | AJ12: =IF(S12=1,MAX(0,MIN(MIN(F12,AA12),(AA12-1)+6/24)-Z12)+MAX(0,MIN(F12,AA12)-MAX(Z12,(AA12-1)+19/24)),"") | AK12: =IF(S12=1,MAX(0,F12-MAX(Z12,AA12)),"") | AL12: =IF(S12=1,MAX(0,MIN(F12,AA12+6/24)-MAX(Z12,AA12))+MAX(0,F12-MAX(MAX(Z12,AA12),AA12+19/24)),"") | AM12: =IF(S12=1,MAX(0,MIN(Y12,AA12)-X12),"") | AN12: =IF(S12=1,MAX(0,MIN(MIN(Y12,AA12),(AA12-1)+6/24)-X12)+MAX(0,MIN(Y12,AA12)-MAX(X12,(AA12-1)+19/24)),"") | AO12: =IF(S12=1,MAX(0,Y12-MAX(X12,AA12)),"") | AP12: =IF(S12=1,MAX(0,MIN(Y12,AA12+6/24)-MAX(X12,AA12))+MAX(0,Y12-MAX(MAX(X12,AA12),AA12+19/24)),"") | AQ12: =IF(S12=1,(AE12-AF12)-AD12*(AM12-AN12),"") | AR12: =IF(S12=1,AF12-AD12*AN12,"") | AS12: =IF(S12=1,(AI12-AJ12)-(1-AD12)*(AM12-AN12),"") | AT12: =IF(S12=1,AJ12-(1-AD12)*AN12,"") | AU12: =IF(S12=1,(AG12-AH12)-AD12*(AO12-AP12),"") | AV12: =IF(S12=1,AH12-AD12*AP12,"") | AW12: =IF(S12=1,(AK12-AL12)-(1-AD12)*(AO12-AP12),"") | AX12: =IF(S12=1,AL12-(1-AD12)*AP12,"")
D13: =IF(J13="","",J13*(K13*INDEX('Parámetros'!$E$5:$E$7,T13)+L13*INDEX('Parámetros'!$F$5:$F$7,T13)+M13*INDEX('Parámetros'!$G$5:$G$7,T13)+N13*INDEX('Parámetros'!$H$5:$H$7,T13)+O13*INDEX('Parámetros'!$I$5:$I$7,T13)+P13*INDEX('Parámetros'!$J$5:$J$7,T13)+Q13*INDEX('Parámetros'!$K$5:$K$7,T13)+R13*INDEX('Parámetros'!$L$5:$L$7,T13))) | I13: =IF(AND(E13="",F13=""),"",IF(S13=1,(V13-W13)/60,"Revisa entrada y salida")) | J13: =IF(OR(S13<>1,C13=""),"",C13/INDEX('Parámetros'!$D$5:$D$7,T13)) | K13: =IF(S13=1,ROUND(1440*((1-AB13)*AS13+(1-AC13)*AW13),0)/60,"") | L13: =IF(S13=1,ROUND(1440*((1-AB13)*AT13+(1-AC13)*AX13),0)/60,"") | M13: =IF(S13=1,ROUND(1440*((1-AB13)*AR13+(1-AC13)*AV13),0)/60,"") | N13: =IF(S13=1,ROUND(1440*(IF(OR(H13="Sí",H13="Si"),AB13*AQ13+AC13*AU13,0)),0)/60,"") | O13: =IF(S13=1,ROUND(1440*(IF(OR(H13="Sí",H13="Si"),0,AB13*AQ13+AC13*AU13)),0)/60,"") | P13: =IF(S13=1,ROUND(1440*(AB13*AR13+AC13*AV13),0)/60,"") | Q13: =IF(S13=1,ROUND(1440*(AB13*AS13+AC13*AW13),0)/60,"") | R13: =IF(S13=1,ROUND(1440*(AB13*AT13+AC13*AX13),0)/60,"") | S13: =IF(AND(ISNUMBER(E13),ISNUMBER(F13)),IF(AND(F13>E13,YEAR(E13)=2026,(F13-E13)*1440<=1140),1,0),0) | T13: =IF(S13=1,MATCH(INT(E13),'Parámetros'!$A$5:$A$7,1),"") | U13: =IF(S13=1,INDEX('Parámetros'!$C$5:$C$7,T13)/24,"") | V13: =IF(S13=1,ROUND((F13-E13)*1440,0),"") | W13: =IF(S13=1,MIN(N(G13),V13),"") | X13: =IF(S13=1,E13+(INT(V13/2)-INT(W13/2))/1440,"") | Y13: =IF(S13=1,X13+W13/1440,"") | Z13: =IF(S13=1,MIN(F13,IF(E13+U13<=X13,E13+U13,E13+U13+W13/1440)),"") | AA13: =IF(S13=1,INT(E13)+1,"") | AB13: =IF(S13=1,IF(OR(WEEKDAY(AA13-1)=1,COUNTIF('Festivos 2026'!$A$5:$A$40,AA13-1)>0),1,0),"") | AC13: =IF(S13=1,IF(OR(WEEKDAY(AA13)=1,COUNTIF('Festivos 2026'!$A$5:$A$40,AA13)>0),1,0),"") | AD13: =IF(S13=1,IF(Y13<=Z13,1,0),"") | AE13: =IF(S13=1,MAX(0,MIN(Z13,AA13)-E13),"") | AF13: =IF(S13=1,MAX(0,MIN(MIN(Z13,AA13),(AA13-1)+6/24)-E13)+MAX(0,MIN(Z13,AA13)-MAX(E13,(AA13-1)+19/24)),"") | AG13: =IF(S13=1,MAX(0,Z13-MAX(E13,AA13)),"") | AH13: =IF(S13=1,MAX(0,MIN(Z13,AA13+6/24)-MAX(E13,AA13))+MAX(0,Z13-MAX(MAX(E13,AA13),AA13+19/24)),"") | AI13: =IF(S13=1,MAX(0,MIN(F13,AA13)-Z13),"") | AJ13: =IF(S13=1,MAX(0,MIN(MIN(F13,AA13),(AA13-1)+6/24)-Z13)+MAX(0,MIN(F13,AA13)-MAX(Z13,(AA13-1)+19/24)),"") | AK13: =IF(S13=1,MAX(0,F13-MAX(Z13,AA13)),"") | AL13: =IF(S13=1,MAX(0,MIN(F13,AA13+6/24)-MAX(Z13,AA13))+MAX(0,F13-MAX(MAX(Z13,AA13),AA13+19/24)),"") | AM13: =IF(S13=1,MAX(0,MIN(Y13,AA13)-X13),"") | AN13: =IF(S13=1,MAX(0,MIN(MIN(Y13,AA13),(AA13-1)+6/24)-X13)+MAX(0,MIN(Y13,AA13)-MAX(X13,(AA13-1)+19/24)),"") | AO13: =IF(S13=1,MAX(0,Y13-MAX(X13,AA13)),"") | AP13: =IF(S13=1,MAX(0,MIN(Y13,AA13+6/24)-MAX(X13,AA13))+MAX(0,Y13-MAX(MAX(X13,AA13),AA13+19/24)),"") | AQ13: =IF(S13=1,(AE13-AF13)-AD13*(AM13-AN13),"") | AR13: =IF(S13=1,AF13-AD13*AN13,"") | AS13: =IF(S13=1,(AI13-AJ13)-(1-AD13)*(AM13-AN13),"") | AT13: =IF(S13=1,AJ13-(1-AD13)*AN13,"") | AU13: =IF(S13=1,(AG13-AH13)-AD13*(AO13-AP13),"") | AV13: =IF(S13=1,AH13-AD13*AP13,"") | AW13: =IF(S13=1,(AK13-AL13)-(1-AD13)*(AO13-AP13),"") | AX13: =IF(S13=1,AL13-(1-AD13)*AP13,"")
D14: =IF(J14="","",J14*(K14*INDEX('Parámetros'!$E$5:$E$7,T14)+L14*INDEX('Parámetros'!$F$5:$F$7,T14)+M14*INDEX('Parámetros'!$G$5:$G$7,T14)+N14*INDEX('Parámetros'!$H$5:$H$7,T14)+O14*INDEX('Parámetros'!$I$5:$I$7,T14)+P14*INDEX('Parámetros'!$J$5:$J$7,T14)+Q14*INDEX('Parámetros'!$K$5:$K$7,T14)+R14*INDEX('Parámetros'!$L$5:$L$7,T14))) | I14: =IF(AND(E14="",F14=""),"",IF(S14=1,(V14-W14)/60,"Revisa entrada y salida")) | J14: =IF(OR(S14<>1,C14=""),"",C14/INDEX('Parámetros'!$D$5:$D$7,T14)) | K14: =IF(S14=1,ROUND(1440*((1-AB14)*AS14+(1-AC14)*AW14),0)/60,"") | L14: =IF(S14=1,ROUND(1440*((1-AB14)*AT14+(1-AC14)*AX14),0)/60,"") | M14: =IF(S14=1,ROUND(1440*((1-AB14)*AR14+(1-AC14)*AV14),0)/60,"") | N14: =IF(S14=1,ROUND(1440*(IF(OR(H14="Sí",H14="Si"),AB14*AQ14+AC14*AU14,0)),0)/60,"") | O14: =IF(S14=1,ROUND(1440*(IF(OR(H14="Sí",H14="Si"),0,AB14*AQ14+AC14*AU14)),0)/60,"") | P14: =IF(S14=1,ROUND(1440*(AB14*AR14+AC14*AV14),0)/60,"") | Q14: =IF(S14=1,ROUND(1440*(AB14*AS14+AC14*AW14),0)/60,"") | R14: =IF(S14=1,ROUND(1440*(AB14*AT14+AC14*AX14),0)/60,"") | S14: =IF(AND(ISNUMBER(E14),ISNUMBER(F14)),IF(AND(F14>E14,YEAR(E14)=2026,(F14-E14)*1440<=1140),1,0),0) | T14: =IF(S14=1,MATCH(INT(E14),'Parámetros'!$A$5:$A$7,1),"") | U14: =IF(S14=1,INDEX('Parámetros'!$C$5:$C$7,T14)/24,"") | V14: =IF(S14=1,ROUND((F14-E14)*1440,0),"") | W14: =IF(S14=1,MIN(N(G14),V14),"") | X14: =IF(S14=1,E14+(INT(V14/2)-INT(W14/2))/1440,"") | Y14: =IF(S14=1,X14+W14/1440,"") | Z14: =IF(S14=1,MIN(F14,IF(E14+U14<=X14,E14+U14,E14+U14+W14/1440)),"") | AA14: =IF(S14=1,INT(E14)+1,"") | AB14: =IF(S14=1,IF(OR(WEEKDAY(AA14-1)=1,COUNTIF('Festivos 2026'!$A$5:$A$40,AA14-1)>0),1,0),"") | AC14: =IF(S14=1,IF(OR(WEEKDAY(AA14)=1,COUNTIF('Festivos 2026'!$A$5:$A$40,AA14)>0),1,0),"") | AD14: =IF(S14=1,IF(Y14<=Z14,1,0),"") | AE14: =IF(S14=1,MAX(0,MIN(Z14,AA14)-E14),"") | AF14: =IF(S14=1,MAX(0,MIN(MIN(Z14,AA14),(AA14-1)+6/24)-E14)+MAX(0,MIN(Z14,AA14)-MAX(E14,(AA14-1)+19/24)),"") | AG14: =IF(S14=1,MAX(0,Z14-MAX(E14,AA14)),"") | AH14: =IF(S14=1,MAX(0,MIN(Z14,AA14+6/24)-MAX(E14,AA14))+MAX(0,Z14-MAX(MAX(E14,AA14),AA14+19/24)),"") | AI14: =IF(S14=1,MAX(0,MIN(F14,AA14)-Z14),"") | AJ14: =IF(S14=1,MAX(0,MIN(MIN(F14,AA14),(AA14-1)+6/24)-Z14)+MAX(0,MIN(F14,AA14)-MAX(Z14,(AA14-1)+19/24)),"") | AK14: =IF(S14=1,MAX(0,F14-MAX(Z14,AA14)),"") | AL14: =IF(S14=1,MAX(0,MIN(F14,AA14+6/24)-MAX(Z14,AA14))+MAX(0,F14-MAX(MAX(Z14,AA14),AA14+19/24)),"") | AM14: =IF(S14=1,MAX(0,MIN(Y14,AA14)-X14),"") | AN14: =IF(S14=1,MAX(0,MIN(MIN(Y14,AA14),(AA14-1)+6/24)-X14)+MAX(0,MIN(Y14,AA14)-MAX(X14,(AA14-1)+19/24)),"") | AO14: =IF(S14=1,MAX(0,Y14-MAX(X14,AA14)),"") | AP14: =IF(S14=1,MAX(0,MIN(Y14,AA14+6/24)-MAX(X14,AA14))+MAX(0,Y14-MAX(MAX(X14,AA14),AA14+19/24)),"") | AQ14: =IF(S14=1,(AE14-AF14)-AD14*(AM14-AN14),"") | AR14: =IF(S14=1,AF14-AD14*AN14,"") | AS14: =IF(S14=1,(AI14-AJ14)-(1-AD14)*(AM14-AN14),"") | AT14: =IF(S14=1,AJ14-(1-AD14)*AN14,"") | AU14: =IF(S14=1,(AG14-AH14)-AD14*(AO14-AP14),"") | AV14: =IF(S14=1,AH14-AD14*AP14,"") | AW14: =IF(S14=1,(AK14-AL14)-(1-AD14)*(AO14-AP14),"") | AX14: =IF(S14=1,AL14-(1-AD14)*AP14,"")
D15: =IF(J15="","",J15*(K15*INDEX('Parámetros'!$E$5:$E$7,T15)+L15*INDEX('Parámetros'!$F$5:$F$7,T15)+M15*INDEX('Parámetros'!$G$5:$G$7,T15)+N15*INDEX('Parámetros'!$H$5:$H$7,T15)+O15*INDEX('Parámetros'!$I$5:$I$7,T15)+P15*INDEX('Parámetros'!$J$5:$J$7,T15)+Q15*INDEX('Parámetros'!$K$5:$K$7,T15)+R15*INDEX('Parámetros'!$L$5:$L$7,T15))) | I15: =IF(AND(E15="",F15=""),"",IF(S15=1,(V15-W15)/60,"Revisa entrada y salida")) | J15: =IF(OR(S15<>1,C15=""),"",C15/INDEX('Parámetros'!$D$5:$D$7,T15)) | K15: =IF(S15=1,ROUND(1440*((1-AB15)*AS15+(1-AC15)*AW15),0)/60,"") | L15: =IF(S15=1,ROUND(1440*((1-AB15)*AT15+(1-AC15)*AX15),0)/60,"") | M15: =IF(S15=1,ROUND(1440*((1-AB15)*AR15+(1-AC15)*AV15),0)/60,"") | N15: =IF(S15=1,ROUND(1440*(IF(OR(H15="Sí",H15="Si"),AB15*AQ15+AC15*AU15,0)),0)/60,"") | O15: =IF(S15=1,ROUND(1440*(IF(OR(H15="Sí",H15="Si"),0,AB15*AQ15+AC15*AU15)),0)/60,"") | P15: =IF(S15=1,ROUND(1440*(AB15*AR15+AC15*AV15),0)/60,"") | Q15: =IF(S15=1,ROUND(1440*(AB15*AS15+AC15*AW15),0)/60,"") | R15: =IF(S15=1,ROUND(1440*(AB15*AT15+AC15*AX15),0)/60,"") | S15: =IF(AND(ISNUMBER(E15),ISNUMBER(F15)),IF(AND(F15>E15,YEAR(E15)=2026,(F15-E15)*1440<=1140),1,0),0) | T15: =IF(S15=1,MATCH(INT(E15),'Parámetros'!$A$5:$A$7,1),"") | U15: =IF(S15=1,INDEX('Parámetros'!$C$5:$C$7,T15)/24,"") | V15: =IF(S15=1,ROUND((F15-E15)*1440,0),"") | W15: =IF(S15=1,MIN(N(G15),V15),"") | X15: =IF(S15=1,E15+(INT(V15/2)-INT(W15/2))/1440,"") | Y15: =IF(S15=1,X15+W15/1440,"") | Z15: =IF(S15=1,MIN(F15,IF(E15+U15<=X15,E15+U15,E15+U15+W15/1440)),"") | AA15: =IF(S15=1,INT(E15)+1,"") | AB15: =IF(S15=1,IF(OR(WEEKDAY(AA15-1)=1,COUNTIF('Festivos 2026'!$A$5:$A$40,AA15-1)>0),1,0),"") | AC15: =IF(S15=1,IF(OR(WEEKDAY(AA15)=1,COUNTIF('Festivos 2026'!$A$5:$A$40,AA15)>0),1,0),"") | AD15: =IF(S15=1,IF(Y15<=Z15,1,0),"") | AE15: =IF(S15=1,MAX(0,MIN(Z15,AA15)-E15),"") | AF15: =IF(S15=1,MAX(0,MIN(MIN(Z15,AA15),(AA15-1)+6/24)-E15)+MAX(0,MIN(Z15,AA15)-MAX(E15,(AA15-1)+19/24)),"") | AG15: =IF(S15=1,MAX(0,Z15-MAX(E15,AA15)),"") | AH15: =IF(S15=1,MAX(0,MIN(Z15,AA15+6/24)-MAX(E15,AA15))+MAX(0,Z15-MAX(MAX(E15,AA15),AA15+19/24)),"") | AI15: =IF(S15=1,MAX(0,MIN(F15,AA15)-Z15),"") | AJ15: =IF(S15=1,MAX(0,MIN(MIN(F15,AA15),(AA15-1)+6/24)-Z15)+MAX(0,MIN(F15,AA15)-MAX(Z15,(AA15-1)+19/24)),"") | AK15: =IF(S15=1,MAX(0,F15-MAX(Z15,AA15)),"") | AL15: =IF(S15=1,MAX(0,MIN(F15,AA15+6/24)-MAX(Z15,AA15))+MAX(0,F15-MAX(MAX(Z15,AA15),AA15+19/24)),"") | AM15: =IF(S15=1,MAX(0,MIN(Y15,AA15)-X15),"") | AN15: =IF(S15=1,MAX(0,MIN(MIN(Y15,AA15),(AA15-1)+6/24)-X15)+MAX(0,MIN(Y15,AA15)-MAX(X15,(AA15-1)+19/24)),"") | AO15: =IF(S15=1,MAX(0,Y15-MAX(X15,AA15)),"") | AP15: =IF(S15=1,MAX(0,MIN(Y15,AA15+6/24)-MAX(X15,AA15))+MAX(0,Y15-MAX(MAX(X15,AA15),AA15+19/24)),"") | AQ15: =IF(S15=1,(AE15-AF15)-AD15*(AM15-AN15),"") | AR15: =IF(S15=1,AF15-AD15*AN15,"") | AS15: =IF(S15=1,(AI15-AJ15)-(1-AD15)*(AM15-AN15),"") | AT15: =IF(S15=1,AJ15-(1-AD15)*AN15,"") | AU15: =IF(S15=1,(AG15-AH15)-AD15*(AO15-AP15),"") | AV15: =IF(S15=1,AH15-AD15*AP15,"") | AW15: =IF(S15=1,(AK15-AL15)-(1-AD15)*(AO15-AP15),"") | AX15: =IF(S15=1,AL15-(1-AD15)*AP15,"")
D16: =IF(J16="","",J16*(K16*INDEX('Parámetros'!$E$5:$E$7,T16)+L16*INDEX('Parámetros'!$F$5:$F$7,T16)+M16*INDEX('Parámetros'!$G$5:$G$7,T16)+N16*INDEX('Parámetros'!$H$5:$H$7,T16)+O16*INDEX('Parámetros'!$I$5:$I$7,T16)+P16*INDEX('Parámetros'!$J$5:$J$7,T16)+Q16*INDEX('Parámetros'!$K$5:$K$7,T16)+R16*INDEX('Parámetros'!$L$5:$L$7,T16))) | I16: =IF(AND(E16="",F16=""),"",IF(S16=1,(V16-W16)/60,"Revisa entrada y salida")) | J16: =IF(OR(S16<>1,C16=""),"",C16/INDEX('Parámetros'!$D$5:$D$7,T16)) | K16: =IF(S16=1,ROUND(1440*((1-AB16)*AS16+(1-AC16)*AW16),0)/60,"") | L16: =IF(S16=1,ROUND(1440*((1-AB16)*AT16+(1-AC16)*AX16),0)/60,"") | M16: =IF(S16=1,ROUND(1440*((1-AB16)*AR16+(1-AC16)*AV16),0)/60,"") | N16: =IF(S16=1,ROUND(1440*(IF(OR(H16="Sí",H16="Si"),AB16*AQ16+AC16*AU16,0)),0)/60,"") | O16: =IF(S16=1,ROUND(1440*(IF(OR(H16="Sí",H16="Si"),0,AB16*AQ16+AC16*AU16)),0)/60,"") | P16: =IF(S16=1,ROUND(1440*(AB16*AR16+AC16*AV16),0)/60,"") | Q16: =IF(S16=1,ROUND(1440*(AB16*AS16+AC16*AW16),0)/60,"") | R16: =IF(S16=1,ROUND(1440*(AB16*AT16+AC16*AX16),0)/60,"") | S16: =IF(AND(ISNUMBER(E16),ISNUMBER(F16)),IF(AND(F16>E16,YEAR(E16)=2026,(F16-E16)*1440<=1140),1,0),0) | T16: =IF(S16=1,MATCH(INT(E16),'Parámetros'!$A$5:$A$7,1),"") | U16: =IF(S16=1,INDEX('Parámetros'!$C$5:$C$7,T16)/24,"") | V16: =IF(S16=1,ROUND((F16-E16)*1440,0),"") | W16: =IF(S16=1,MIN(N(G16),V16),"") | X16: =IF(S16=1,E16+(INT(V16/2)-INT(W16/2))/1440,"") | Y16: =IF(S16=1,X16+W16/1440,"") | Z16: =IF(S16=1,MIN(F16,IF(E16+U16<=X16,E16+U16,E16+U16+W16/1440)),"") | AA16: =IF(S16=1,INT(E16)+1,"") | AB16: =IF(S16=1,IF(OR(WEEKDAY(AA16-1)=1,COUNTIF('Festivos 2026'!$A$5:$A$40,AA16-1)>0),1,0),"") | AC16: =IF(S16=1,IF(OR(WEEKDAY(AA16)=1,COUNTIF('Festivos 2026'!$A$5:$A$40,AA16)>0),1,0),"") | AD16: =IF(S16=1,IF(Y16<=Z16,1,0),"") | AE16: =IF(S16=1,MAX(0,MIN(Z16,AA16)-E16),"") | AF16: =IF(S16=1,MAX(0,MIN(MIN(Z16,AA16),(AA16-1)+6/24)-E16)+MAX(0,MIN(Z16,AA16)-MAX(E16,(AA16-1)+19/24)),"") | AG16: =IF(S16=1,MAX(0,Z16-MAX(E16,AA16)),"") | AH16: =IF(S16=1,MAX(0,MIN(Z16,AA16+6/24)-MAX(E16,AA16))+MAX(0,Z16-MAX(MAX(E16,AA16),AA16+19/24)),"") | AI16: =IF(S16=1,MAX(0,MIN(F16,AA16)-Z16),"") | AJ16: =IF(S16=1,MAX(0,MIN(MIN(F16,AA16),(AA16-1)+6/24)-Z16)+MAX(0,MIN(F16,AA16)-MAX(Z16,(AA16-1)+19/24)),"") | AK16: =IF(S16=1,MAX(0,F16-MAX(Z16,AA16)),"") | AL16: =IF(S16=1,MAX(0,MIN(F16,AA16+6/24)-MAX(Z16,AA16))+MAX(0,F16-MAX(MAX(Z16,AA16),AA16+19/24)),"") | AM16: =IF(S16=1,MAX(0,MIN(Y16,AA16)-X16),"") | AN16: =IF(S16=1,MAX(0,MIN(MIN(Y16,AA16),(AA16-1)+6/24)-X16)+MAX(0,MIN(Y16,AA16)-MAX(X16,(AA16-1)+19/24)),"") | AO16: =IF(S16=1,MAX(0,Y16-MAX(X16,AA16)),"") | AP16: =IF(S16=1,MAX(0,MIN(Y16,AA16+6/24)-MAX(X16,AA16))+MAX(0,Y16-MAX(MAX(X16,AA16),AA16+19/24)),"") | AQ16: =IF(S16=1,(AE16-AF16)-AD16*(AM16-AN16),"") | AR16: =IF(S16=1,AF16-AD16*AN16,"") | AS16: =IF(S16=1,(AI16-AJ16)-(1-AD16)*(AM16-AN16),"") | AT16: =IF(S16=1,AJ16-(1-AD16)*AN16,"") | AU16: =IF(S16=1,(AG16-AH16)-AD16*(AO16-AP16),"") | AV16: =IF(S16=1,AH16-AD16*AP16,"") | AW16: =IF(S16=1,(AK16-AL16)-(1-AD16)*(AO16-AP16),"") | AX16: =IF(S16=1,AL16-(1-AD16)*AP16,"")
D17: =IF(J17="","",J17*(K17*INDEX('Parámetros'!$E$5:$E$7,T17)+L17*INDEX('Parámetros'!$F$5:$F$7,T17)+M17*INDEX('Parámetros'!$G$5:$G$7,T17)+N17*INDEX('Parámetros'!$H$5:$H$7,T17)+O17*INDEX('Parámetros'!$I$5:$I$7,T17)+P17*INDEX('Parámetros'!$J$5:$J$7,T17)+Q17*INDEX('Parámetros'!$K$5:$K$7,T17)+R17*INDEX('Parámetros'!$L$5:$L$7,T17))) | I17: =IF(AND(E17="",F17=""),"",IF(S17=1,(V17-W17)/60,"Revisa entrada y salida")) | J17: =IF(OR(S17<>1,C17=""),"",C17/INDEX('Parámetros'!$D$5:$D$7,T17)) | K17: =IF(S17=1,ROUND(1440*((1-AB17)*AS17+(1-AC17)*AW17),0)/60,"") | L17: =IF(S17=1,ROUND(1440*((1-AB17)*AT17+(1-AC17)*AX17),0)/60,"") | M17: =IF(S17=1,ROUND(1440*((1-AB17)*AR17+(1-AC17)*AV17),0)/60,"") | N17: =IF(S17=1,ROUND(1440*(IF(OR(H17="Sí",H17="Si"),AB17*AQ17+AC17*AU17,0)),0)/60,"") | O17: =IF(S17=1,ROUND(1440*(IF(OR(H17="Sí",H17="Si"),0,AB17*AQ17+AC17*AU17)),0)/60,"") | P17: =IF(S17=1,ROUND(1440*(AB17*AR17+AC17*AV17),0)/60,"") | Q17: =IF(S17=1,ROUND(1440*(AB17*AS17+AC17*AW17),0)/60,"") | R17: =IF(S17=1,ROUND(1440*(AB17*AT17+AC17*AX17),0)/60,"") | S17: =IF(AND(ISNUMBER(E17),ISNUMBER(F17)),IF(AND(F17>E17,YEAR(E17)=2026,(F17-E17)*1440<=1140),1,0),0) | T17: =IF(S17=1,MATCH(INT(E17),'Parámetros'!$A$5:$A$7,1),"") | U17: =IF(S17=1,INDEX('Parámetros'!$C$5:$C$7,T17)/24,"") | V17: =IF(S17=1,ROUND((F17-E17)*1440,0),"") | W17: =IF(S17=1,MIN(N(G17),V17),"") | X17: =IF(S17=1,E17+(INT(V17/2)-INT(W17/2))/1440,"") | Y17: =IF(S17=1,X17+W17/1440,"") | Z17: =IF(S17=1,MIN(F17,IF(E17+U17<=X17,E17+U17,E17+U17+W17/1440)),"") | AA17: =IF(S17=1,INT(E17)+1,"") | AB17: =IF(S17=1,IF(OR(WEEKDAY(AA17-1)=1,COUNTIF('Festivos 2026'!$A$5:$A$40,AA17-1)>0),1,0),"") | AC17: =IF(S17=1,IF(OR(WEEKDAY(AA17)=1,COUNTIF('Festivos 2026'!$A$5:$A$40,AA17)>0),1,0),"") | AD17: =IF(S17=1,IF(Y17<=Z17,1,0),"") | AE17: =IF(S17=1,MAX(0,MIN(Z17,AA17)-E17),"") | AF17: =IF(S17=1,MAX(0,MIN(MIN(Z17,AA17),(AA17-1)+6/24)-E17)+MAX(0,MIN(Z17,AA17)-MAX(E17,(AA17-1)+19/24)),"") | AG17: =IF(S17=1,MAX(0,Z17-MAX(E17,AA17)),"") | AH17: =IF(S17=1,MAX(0,MIN(Z17,AA17+6/24)-MAX(E17,AA17))+MAX(0,Z17-MAX(MAX(E17,AA17),AA17+19/24)),"") | AI17: =IF(S17=1,MAX(0,MIN(F17,AA17)-Z17),"") | AJ17: =IF(S17=1,MAX(0,MIN(MIN(F17,AA17),(AA17-1)+6/24)-Z17)+MAX(0,MIN(F17,AA17)-MAX(Z17,(AA17-1)+19/24)),"") | AK17: =IF(S17=1,MAX(0,F17-MAX(Z17,AA17)),"") | AL17: =IF(S17=1,MAX(0,MIN(F17,AA17+6/24)-MAX(Z17,AA17))+MAX(0,F17-MAX(MAX(Z17,AA17),AA17+19/24)),"") | AM17: =IF(S17=1,MAX(0,MIN(Y17,AA17)-X17),"") | AN17: =IF(S17=1,MAX(0,MIN(MIN(Y17,AA17),(AA17-1)+6/24)-X17)+MAX(0,MIN(Y17,AA17)-MAX(X17,(AA17-1)+19/24)),"") | AO17: =IF(S17=1,MAX(0,Y17-MAX(X17,AA17)),"") | AP17: =IF(S17=1,MAX(0,MIN(Y17,AA17+6/24)-MAX(X17,AA17))+MAX(0,Y17-MAX(MAX(X17,AA17),AA17+19/24)),"") | AQ17: =IF(S17=1,(AE17-AF17)-AD17*(AM17-AN17),"") | AR17: =IF(S17=1,AF17-AD17*AN17,"") | AS17: =IF(S17=1,(AI17-AJ17)-(1-AD17)*(AM17-AN17),"") | AT17: =IF(S17=1,AJ17-(1-AD17)*AN17,"") | AU17: =IF(S17=1,(AG17-AH17)-AD17*(AO17-AP17),"") | AV17: =IF(S17=1,AH17-AD17*AP17,"") | AW17: =IF(S17=1,(AK17-AL17)-(1-AD17)*(AO17-AP17),"") | AX17: =IF(S17=1,AL17-(1-AD17)*AP17,"")
D18: =IF(J18="","",J18*(K18*INDEX('Parámetros'!$E$5:$E$7,T18)+L18*INDEX('Parámetros'!$F$5:$F$7,T18)+M18*INDEX('Parámetros'!$G$5:$G$7,T18)+N18*INDEX('Parámetros'!$H$5:$H$7,T18)+O18*INDEX('Parámetros'!$I$5:$I$7,T18)+P18*INDEX('Parámetros'!$J$5:$J$7,T18)+Q18*INDEX('Parámetros'!$K$5:$K$7,T18)+R18*INDEX('Parámetros'!$L$5:$L$7,T18))) | I18: =IF(AND(E18="",F18=""),"",IF(S18=1,(V18-W18)/60,"Revisa entrada y salida")) | J18: =IF(OR(S18<>1,C18=""),"",C18/INDEX('Parámetros'!$D$5:$D$7,T18)) | K18: =IF(S18=1,ROUND(1440*((1-AB18)*AS18+(1-AC18)*AW18),0)/60,"") | L18: =IF(S18=1,ROUND(1440*((1-AB18)*AT18+(1-AC18)*AX18),0)/60,"") | M18: =IF(S18=1,ROUND(1440*((1-AB18)*AR18+(1-AC18)*AV18),0)/60,"") | N18: =IF(S18=1,ROUND(1440*(IF(OR(H18="Sí",H18="Si"),AB18*AQ18+AC18*AU18,0)),0)/60,"") | O18: =IF(S18=1,ROUND(1440*(IF(OR(H18="Sí",H18="Si"),0,AB18*AQ18+AC18*AU18)),0)/60,"") | P18: =IF(S18=1,ROUND(1440*(AB18*AR18+AC18*AV18),0)/60,"") | Q18: =IF(S18=1,ROUND(1440*(AB18*AS18+AC18*AW18),0)/60,"") | R18: =IF(S18=1,ROUND(1440*(AB18*AT18+AC18*AX18),0)/60,"") | S18: =IF(AND(ISNUMBER(E18),ISNUMBER(F18)),IF(AND(F18>E18,YEAR(E18)=2026,(F18-E18)*1440<=1140),1,0),0) | T18: =IF(S18=1,MATCH(INT(E18),'Parámetros'!$A$5:$A$7,1),"") | U18: =IF(S18=1,INDEX('Parámetros'!$C$5:$C$7,T18)/24,"") | V18: =IF(S18=1,ROUND((F18-E18)*1440,0),"") | W18: =IF(S18=1,MIN(N(G18),V18),"") | X18: =IF(S18=1,E18+(INT(V18/2)-INT(W18/2))/1440,"") | Y18: =IF(S18=1,X18+W18/1440,"") | Z18: =IF(S18=1,MIN(F18,IF(E18+U18<=X18,E18+U18,E18+U18+W18/1440)),"") | AA18: =IF(S18=1,INT(E18)+1,"") | AB18: =IF(S18=1,IF(OR(WEEKDAY(AA18-1)=1,COUNTIF('Festivos 2026'!$A$5:$A$40,AA18-1)>0),1,0),"") | AC18: =IF(S18=1,IF(OR(WEEKDAY(AA18)=1,COUNTIF('Festivos 2026'!$A$5:$A$40,AA18)>0),1,0),"") | AD18: =IF(S18=1,IF(Y18<=Z18,1,0),"") | AE18: =IF(S18=1,MAX(0,MIN(Z18,AA18)-E18),"") | AF18: =IF(S18=1,MAX(0,MIN(MIN(Z18,AA18),(AA18-1)+6/24)-E18)+MAX(0,MIN(Z18,AA18)-MAX(E18,(AA18-1)+19/24)),"") | AG18: =IF(S18=1,MAX(0,Z18-MAX(E18,AA18)),"") | AH18: =IF(S18=1,MAX(0,MIN(Z18,AA18+6/24)-MAX(E18,AA18))+MAX(0,Z18-MAX(MAX(E18,AA18),AA18+19/24)),"") | AI18: =IF(S18=1,MAX(0,MIN(F18,AA18)-Z18),"") | AJ18: =IF(S18=1,MAX(0,MIN(MIN(F18,AA18),(AA18-1)+6/24)-Z18)+MAX(0,MIN(F18,AA18)-MAX(Z18,(AA18-1)+19/24)),"") | AK18: =IF(S18=1,MAX(0,F18-MAX(Z18,AA18)),"") | AL18: =IF(S18=1,MAX(0,MIN(F18,AA18+6/24)-MAX(Z18,AA18))+MAX(0,F18-MAX(MAX(Z18,AA18),AA18+19/24)),"") | AM18: =IF(S18=1,MAX(0,MIN(Y18,AA18)-X18),"") | AN18: =IF(S18=1,MAX(0,MIN(MIN(Y18,AA18),(AA18-1)+6/24)-X18)+MAX(0,MIN(Y18,AA18)-MAX(X18,(AA18-1)+19/24)),"") | AO18: =IF(S18=1,MAX(0,Y18-MAX(X18,AA18)),"") | AP18: =IF(S18=1,MAX(0,MIN(Y18,AA18+6/24)-MAX(X18,AA18))+MAX(0,Y18-MAX(MAX(X18,AA18),AA18+19/24)),"") | AQ18: =IF(S18=1,(AE18-AF18)-AD18*(AM18-AN18),"") | AR18: =IF(S18=1,AF18-AD18*AN18,"") | AS18: =IF(S18=1,(AI18-AJ18)-(1-AD18)*(AM18-AN18),"") | AT18: =IF(S18=1,AJ18-(1-AD18)*AN18,"") | AU18: =IF(S18=1,(AG18-AH18)-AD18*(AO18-AP18),"") | AV18: =IF(S18=1,AH18-AD18*AP18,"") | AW18: =IF(S18=1,(AK18-AL18)-(1-AD18)*(AO18-AP18),"") | AX18: =IF(S18=1,AL18-(1-AD18)*AP18,"")
D19: =IF(J19="","",J19*(K19*INDEX('Parámetros'!$E$5:$E$7,T19)+L19*INDEX('Parámetros'!$F$5:$F$7,T19)+M19*INDEX('Parámetros'!$G$5:$G$7,T19)+N19*INDEX('Parámetros'!$H$5:$H$7,T19)+O19*INDEX('Parámetros'!$I$5:$I$7,T19)+P19*INDEX('Parámetros'!$J$5:$J$7,T19)+Q19*INDEX('Parámetros'!$K$5:$K$7,T19)+R19*INDEX('Parámetros'!$L$5:$L$7,T19))) | I19: =IF(AND(E19="",F19=""),"",IF(S19=1,(V19-W19)/60,"Revisa entrada y salida")) | J19: =IF(OR(S19<>1,C19=""),"",C19/INDEX('Parámetros'!$D$5:$D$7,T19)) | K19: =IF(S19=1,ROUND(1440*((1-AB19)*AS19+(1-AC19)*AW19),0)/60,"") | L19: =IF(S19=1,ROUND(1440*((1-AB19)*AT19+(1-AC19)*AX19),0)/60,"") | M19: =IF(S19=1,ROUND(1440*((1-AB19)*AR19+(1-AC19)*AV19),0)/60,"") | N19: =IF(S19=1,ROUND(1440*(IF(OR(H19="Sí",H19="Si"),AB19*AQ19+AC19*AU19,0)),0)/60,"") | O19: =IF(S19=1,ROUND(1440*(IF(OR(H19="Sí",H19="Si"),0,AB19*AQ19+AC19*AU19)),0)/60,"") | P19: =IF(S19=1,ROUND(1440*(AB19*AR19+AC19*AV19),0)/60,"") | Q19: =IF(S19=1,ROUND(1440*(AB19*AS19+AC19*AW19),0)/60,"") | R19: =IF(S19=1,ROUND(1440*(AB19*AT19+AC19*AX19),0)/60,"") | S19: =IF(AND(ISNUMBER(E19),ISNUMBER(F19)),IF(AND(F19>E19,YEAR(E19)=2026,(F19-E19)*1440<=1140),1,0),0) | T19: =IF(S19=1,MATCH(INT(E19),'Parámetros'!$A$5:$A$7,1),"") | U19: =IF(S19=1,INDEX('Parámetros'!$C$5:$C$7,T19)/24,"") | V19: =IF(S19=1,ROUND((F19-E19)*1440,0),"") | W19: =IF(S19=1,MIN(N(G19),V19),"") | X19: =IF(S19=1,E19+(INT(V19/2)-INT(W19/2))/1440,"") | Y19: =IF(S19=1,X19+W19/1440,"") | Z19: =IF(S19=1,MIN(F19,IF(E19+U19<=X19,E19+U19,E19+U19+W19/1440)),"") | AA19: =IF(S19=1,INT(E19)+1,"") | AB19: =IF(S19=1,IF(OR(WEEKDAY(AA19-1)=1,COUNTIF('Festivos 2026'!$A$5:$A$40,AA19-1)>0),1,0),"") | AC19: =IF(S19=1,IF(OR(WEEKDAY(AA19)=1,COUNTIF('Festivos 2026'!$A$5:$A$40,AA19)>0),1,0),"") | AD19: =IF(S19=1,IF(Y19<=Z19,1,0),"") | AE19: =IF(S19=1,MAX(0,MIN(Z19,AA19)-E19),"") | AF19: =IF(S19=1,MAX(0,MIN(MIN(Z19,AA19),(AA19-1)+6/24)-E19)+MAX(0,MIN(Z19,AA19)-MAX(E19,(AA19-1)+19/24)),"") | AG19: =IF(S19=1,MAX(0,Z19-MAX(E19,AA19)),"") | AH19: =IF(S19=1,MAX(0,MIN(Z19,AA19+6/24)-MAX(E19,AA19))+MAX(0,Z19-MAX(MAX(E19,AA19),AA19+19/24)),"") | AI19: =IF(S19=1,MAX(0,MIN(F19,AA19)-Z19),"") | AJ19: =IF(S19=1,MAX(0,MIN(MIN(F19,AA19),(AA19-1)+6/24)-Z19)+MAX(0,MIN(F19,AA19)-MAX(Z19,(AA19-1)+19/24)),"") | AK19: =IF(S19=1,MAX(0,F19-MAX(Z19,AA19)),"") | AL19: =IF(S19=1,MAX(0,MIN(F19,AA19+6/24)-MAX(Z19,AA19))+MAX(0,F19-MAX(MAX(Z19,AA19),AA19+19/24)),"") | AM19: =IF(S19=1,MAX(0,MIN(Y19,AA19)-X19),"") | AN19: =IF(S19=1,MAX(0,MIN(MIN(Y19,AA19),(AA19-1)+6/24)-X19)+MAX(0,MIN(Y19,AA19)-MAX(X19,(AA19-1)+19/24)),"") | AO19: =IF(S19=1,MAX(0,Y19-MAX(X19,AA19)),"") | AP19: =IF(S19=1,MAX(0,MIN(Y19,AA19+6/24)-MAX(X19,AA19))+MAX(0,Y19-MAX(MAX(X19,AA19),AA19+19/24)),"") | AQ19: =IF(S19=1,(AE19-AF19)-AD19*(AM19-AN19),"") | AR19: =IF(S19=1,AF19-AD19*AN19,"") | AS19: =IF(S19=1,(AI19-AJ19)-(1-AD19)*(AM19-AN19),"") | AT19: =IF(S19=1,AJ19-(1-AD19)*AN19,"") | AU19: =IF(S19=1,(AG19-AH19)-AD19*(AO19-AP19),"") | AV19: =IF(S19=1,AH19-AD19*AP19,"") | AW19: =IF(S19=1,(AK19-AL19)-(1-AD19)*(AO19-AP19),"") | AX19: =IF(S19=1,AL19-(1-AD19)*AP19,"")
D20: =IF(J20="","",J20*(K20*INDEX('Parámetros'!$E$5:$E$7,T20)+L20*INDEX('Parámetros'!$F$5:$F$7,T20)+M20*INDEX('Parámetros'!$G$5:$G$7,T20)+N20*INDEX('Parámetros'!$H$5:$H$7,T20)+O20*INDEX('Parámetros'!$I$5:$I$7,T20)+P20*INDEX('Parámetros'!$J$5:$J$7,T20)+Q20*INDEX('Parámetros'!$K$5:$K$7,T20)+R20*INDEX('Parámetros'!$L$5:$L$7,T20))) | I20: =IF(AND(E20="",F20=""),"",IF(S20=1,(V20-W20)/60,"Revisa entrada y salida")) | J20: =IF(OR(S20<>1,C20=""),"",C20/INDEX('Parámetros'!$D$5:$D$7,T20)) | K20: =IF(S20=1,ROUND(1440*((1-AB20)*AS20+(1-AC20)*AW20),0)/60,"") | L20: =IF(S20=1,ROUND(1440*((1-AB20)*AT20+(1-AC20)*AX20),0)/60,"") | M20: =IF(S20=1,ROUND(1440*((1-AB20)*AR20+(1-AC20)*AV20),0)/60,"") | N20: =IF(S20=1,ROUND(1440*(IF(OR(H20="Sí",H20="Si"),AB20*AQ20+AC20*AU20,0)),0)/60,"") | O20: =IF(S20=1,ROUND(1440*(IF(OR(H20="Sí",H20="Si"),0,AB20*AQ20+AC20*AU20)),0)/60,"") | P20: =IF(S20=1,ROUND(1440*(AB20*AR20+AC20*AV20),0)/60,"") | Q20: =IF(S20=1,ROUND(1440*(AB20*AS20+AC20*AW20),0)/60,"") | R20: =IF(S20=1,ROUND(1440*(AB20*AT20+AC20*AX20),0)/60,"") | S20: =IF(AND(ISNUMBER(E20),ISNUMBER(F20)),IF(AND(F20>E20,YEAR(E20)=2026,(F20-E20)*1440<=1140),1,0),0) | T20: =IF(S20=1,MATCH(INT(E20),'Parámetros'!$A$5:$A$7,1),"") | U20: =IF(S20=1,INDEX('Parámetros'!$C$5:$C$7,T20)/24,"") | V20: =IF(S20=1,ROUND((F20-E20)*1440,0),"") | W20: =IF(S20=1,MIN(N(G20),V20),"") | X20: =IF(S20=1,E20+(INT(V20/2)-INT(W20/2))/1440,"") | Y20: =IF(S20=1,X20+W20/1440,"") | Z20: =IF(S20=1,MIN(F20,IF(E20+U20<=X20,E20+U20,E20+U20+W20/1440)),"") | AA20: =IF(S20=1,INT(E20)+1,"") | AB20: =IF(S20=1,IF(OR(WEEKDAY(AA20-1)=1,COUNTIF('Festivos 2026'!$A$5:$A$40,AA20-1)>0),1,0),"") | AC20: =IF(S20=1,IF(OR(WEEKDAY(AA20)=1,COUNTIF('Festivos 2026'!$A$5:$A$40,AA20)>0),1,0),"") | AD20: =IF(S20=1,IF(Y20<=Z20,1,0),"") | AE20: =IF(S20=1,MAX(0,MIN(Z20,AA20)-E20),"") | AF20: =IF(S20=1,MAX(0,MIN(MIN(Z20,AA20),(AA20-1)+6/24)-E20)+MAX(0,MIN(Z20,AA20)-MAX(E20,(AA20-1)+19/24)),"") | AG20: =IF(S20=1,MAX(0,Z20-MAX(E20,AA20)),"") | AH20: =IF(S20=1,MAX(0,MIN(Z20,AA20+6/24)-MAX(E20,AA20))+MAX(0,Z20-MAX(MAX(E20,AA20),AA20+19/24)),"") | AI20: =IF(S20=1,MAX(0,MIN(F20,AA20)-Z20),"") | AJ20: =IF(S20=1,MAX(0,MIN(MIN(F20,AA20),(AA20-1)+6/24)-Z20)+MAX(0,MIN(F20,AA20)-MAX(Z20,(AA20-1)+19/24)),"") | AK20: =IF(S20=1,MAX(0,F20-MAX(Z20,AA20)),"") | AL20: =IF(S20=1,MAX(0,MIN(F20,AA20+6/24)-MAX(Z20,AA20))+MAX(0,F20-MAX(MAX(Z20,AA20),AA20+19/24)),"") | AM20: =IF(S20=1,MAX(0,MIN(Y20,AA20)-X20),"") | AN20: =IF(S20=1,MAX(0,MIN(MIN(Y20,AA20),(AA20-1)+6/24)-X20)+MAX(0,MIN(Y20,AA20)-MAX(X20,(AA20-1)+19/24)),"") | AO20: =IF(S20=1,MAX(0,Y20-MAX(X20,AA20)),"") | AP20: =IF(S20=1,MAX(0,MIN(Y20,AA20+6/24)-MAX(X20,AA20))+MAX(0,Y20-MAX(MAX(X20,AA20),AA20+19/24)),"") | AQ20: =IF(S20=1,(AE20-AF20)-AD20*(AM20-AN20),"") | AR20: =IF(S20=1,AF20-AD20*AN20,"") | AS20: =IF(S20=1,(AI20-AJ20)-(1-AD20)*(AM20-AN20),"") | AT20: =IF(S20=1,AJ20-(1-AD20)*AN20,"") | AU20: =IF(S20=1,(AG20-AH20)-AD20*(AO20-AP20),"") | AV20: =IF(S20=1,AH20-AD20*AP20,"") | AW20: =IF(S20=1,(AK20-AL20)-(1-AD20)*(AO20-AP20),"") | AX20: =IF(S20=1,AL20-(1-AD20)*AP20,"")
... D203: =IF(J203="","",J203*(K203*INDEX('Parámetros'!$E$5:$E$7,T203)+L203*INDEX('Parámetros'!$F$5:$F$7,T203)+M203*INDEX('Parámetros'!$G$5:$G$7,T203)+N203*INDEX('Parámetros'!$H$5:$H$7,T203)+O203*INDEX('Parámetros'!$I$5:$I$7,T203)+P203*INDEX('Parámetros'!$J$5:$J$7,T203)+Q203*INDEX('Parámetros'!$K$5:$K$7,T203)+R203*INDEX('Parámetros'!$L$5:$L$7,T203))) | I203: =IF(AND(E203="",F203=""),"",IF(S203=1,(V203-W203)/60,"Revisa entrada y salida")) | J203: =IF(OR(S203<>1,C203=""),"",C203/INDEX('Parámetros'!$D$5:$D$7,T203)) | K203: =IF(S203=1,ROUND(1440*((1-AB203)*AS203+(1-AC203)*AW203),0)/60,"") | L203: =IF(S203=1,ROUND(1440*((1-AB203)*AT203+(1-AC203)*AX203),0)/60,"") | M203: =IF(S203=1,ROUND(1440*((1-AB203)*AR203+(1-AC203)*AV203),0)/60,"") | N203: =IF(S203=1,ROUND(1440*(IF(OR(H203="Sí",H203="Si"),AB203*AQ203+AC203*AU203,0)),0)/60,"") | O203: =IF(S203=1,ROUND(1440*(IF(OR(H203="Sí",H203="Si"),0,AB203*AQ203+AC203*AU203)),0)/60,"") | P203: =IF(S203=1,ROUND(1440*(AB203*AR203+AC203*AV203),0)/60,"") | Q203: =IF(S203=1,ROUND(1440*(AB203*AS203+AC203*AW203),0)/60,"") | R203: =IF(S203=1,ROUND(1440*(AB203*AT203+AC203*AX203),0)/60,"") | S203: =IF(AND(ISNUMBER(E203),ISNUMBER(F203)),IF(AND(F203>E203,YEAR(E203)=2026,(F203-E203)*1440<=1140),1,0),0) | T203: =IF(S203=1,MATCH(INT(E203),'Parámetros'!$A$5:$A$7,1),"") | U203: =IF(S203=1,INDEX('Parámetros'!$C$5:$C$7,T203)/24,"") | V203: =IF(S203=1,ROUND((F203-E203)*1440,0),"") | W203: =IF(S203=1,MIN(N(G203),V203),"") | X203: =IF(S203=1,E203+(INT(V203/2)-INT(W203/2))/1440,"") | Y203: =IF(S203=1,X203+W203/1440,"") | Z203: =IF(S203=1,MIN(F203,IF(E203+U203<=X203,E203+U203,E203+U203+W203/1440)),"") | AA203: =IF(S203=1,INT(E203)+1,"") | AB203: =IF(S203=1,IF(OR(WEEKDAY(AA203-1)=1,COUNTIF('Festivos 2026'!$A$5:$A$40,AA203-1)>0),1,0),"") | AC203: =IF(S203=1,IF(OR(WEEKDAY(AA203)=1,COUNTIF('Festivos 2026'!$A$5:$A$40,AA203)>0),1,0),"") | AD203: =IF(S203=1,IF(Y203<=Z203,1,0),"") | AE203: =IF(S203=1,MAX(0,MIN(Z203,AA203)-E203),"") | AF203: =IF(S203=1,MAX(0,MIN(MIN(Z203,AA203),(AA203-1)+6/24)-E203)+MAX(0,MIN(Z203,AA203)-MAX(E203,(AA203-1)+19/24)),"") | AG203: =IF(S203=1,MAX(0,Z203-MAX(E203,AA203)),"") | AH203: =IF(S203=1,MAX(0,MIN(Z203,AA203+6/24)-MAX(E203,AA203))+MAX(0,Z203-MAX(MAX(E203,AA203),AA203+19/24)),"") | AI203: =IF(S203=1,MAX(0,MIN(F203,AA203)-Z203),"") | AJ203: =IF(S203=1,MAX(0,MIN(MIN(F203,AA203),(AA203-1)+6/24)-Z203)+MAX(0,MIN(F203,AA203)-MAX(Z203,(AA203-1)+19/24)),"") | AK203: =IF(S203=1,MAX(0,F203-MAX(Z203,AA203)),"") | AL203: =IF(S203=1,MAX(0,MIN(F203,AA203+6/24)-MAX(Z203,AA203))+MAX(0,F203-MAX(MAX(Z203,AA203),AA203+19/24)),"") | AM203: =IF(S203=1,MAX(0,MIN(Y203,AA203)-X203),"") | AN203: =IF(S203=1,MAX(0,MIN(MIN(Y203,AA203),(AA203-1)+6/24)-X203)+MAX(0,MIN(Y203,AA203)-MAX(X203,(AA203-1)+19/24)),"") | AO203: =IF(S203=1,MAX(0,Y203-MAX(X203,AA203)),"") | AP203: =IF(S203=1,MAX(0,MIN(Y203,AA203+6/24)-MAX(X203,AA203))+MAX(0,Y203-MAX(MAX(X203,AA203),AA203+19/24)),"") | AQ203: =IF(S203=1,(AE203-AF203)-AD203*(AM203-AN203),"") | AR203: =IF(S203=1,AF203-AD203*AN203,"") | AS203: =IF(S203=1,(AI203-AJ203)-(1-AD203)*(AM203-AN203),"") | AT203: =IF(S203=1,AJ203-(1-AD203)*AN203,"") | AU203: =IF(S203=1,(AG203-AH203)-AD203*(AO203-AP203),"") | AV203: =IF(S203=1,AH203-AD203*AP203,"") | AW203: =IF(S203=1,(AK203-AL203)-(1-AD203)*(AO203-AP203),"") | AX203: =IF(S203=1,AL203-(1-AD203)*AP203,"")

Sheet Resumen
A1: AppTiempo · Resumen por empleado
A2: Escribe la cédula y todo lo demás sale de la hoja «Turnos». Pon allí solo los turnos del periodo que vas a pagar.
A3: Cédula | B3: Empleado | C3: Total a pagar | D3: Turnos | E3: Horas trabajadas | F3: HE diurna (horas) | G3: HE nocturna (horas) | H3: Recargo nocturno (horas) | I3: Dominical con compensatorio (horas) | J3: Dominical sin compensatorio (horas) | K3: Nocturno dominical (horas) | L3: HE dominical diurna (horas) | M3: HE dominical nocturna (horas)
A4: 1001 | B4: =IF(A4="","",IFERROR(INDEX('Turnos'!$A$4:$A$203,MATCH(A4,'Turnos'!$B$4:$B$203,0)),"No está en Turnos")) | C4: =IF(A4="","",ROUND(SUMIFS('Turnos'!$D$4:$D$203,'Turnos'!$B$4:$B$203,A4),0)) | D4: =IF(A4="","",COUNTIF('Turnos'!$B$4:$B$203,A4)) | E4: =IF(A4="","",SUMIFS('Turnos'!$I$4:$I$203,'Turnos'!$B$4:$B$203,A4)) | F4: =IF(A4="","",SUMIFS('Turnos'!$K$4:$K$203,'Turnos'!$B$4:$B$203,A4)) | G4: =IF(A4="","",SUMIFS('Turnos'!$L$4:$L$203,'Turnos'!$B$4:$B$203,A4)) | H4: =IF(A4="","",SUMIFS('Turnos'!$M$4:$M$203,'Turnos'!$B$4:$B$203,A4)) | I4: =IF(A4="","",SUMIFS('Turnos'!$N$4:$N$203,'Turnos'!$B$4:$B$203,A4)) | J4: =IF(A4="","",SUMIFS('Turnos'!$O$4:$O$203,'Turnos'!$B$4:$B$203,A4)) | K4: =IF(A4="","",SUMIFS('Turnos'!$P$4:$P$203,'Turnos'!$B$4:$B$203,A4)) | L4: =IF(A4="","",SUMIFS('Turnos'!$Q$4:$Q$203,'Turnos'!$B$4:$B$203,A4)) | M4: =IF(A4="","",SUMIFS('Turnos'!$R$4:$R$203,'Turnos'!$B$4:$B$203,A4))
A5: 1002 | B5: =IF(A5="","",IFERROR(INDEX('Turnos'!$A$4:$A$203,MATCH(A5,'Turnos'!$B$4:$B$203,0)),"No está en Turnos")) | C5: =IF(A5="","",ROUND(SUMIFS('Turnos'!$D$4:$D$203,'Turnos'!$B$4:$B$203,A5),0)) | D5: =IF(A5="","",COUNTIF('Turnos'!$B$4:$B$203,A5)) | E5: =IF(A5="","",SUMIFS('Turnos'!$I$4:$I$203,'Turnos'!$B$4:$B$203,A5)) | F5: =IF(A5="","",SUMIFS('Turnos'!$K$4:$K$203,'Turnos'!$B$4:$B$203,A5)) | G5: =IF(A5="","",SUMIFS('Turnos'!$L$4:$L$203,'Turnos'!$B$4:$B$203,A5)) | H5: =IF(A5="","",SUMIFS('Turnos'!$M$4:$M$203,'Turnos'!$B$4:$B$203,A5)) | I5: =IF(A5="","",SUMIFS('Turnos'!$N$4:$N$203,'Turnos'!$B$4:$B$203,A5)) | J5: =IF(A5="","",SUMIFS('Turnos'!$O$4:$O$203,'Turnos'!$B$4:$B$203,A5)) | K5: =IF(A5="","",SUMIFS('Turnos'!$P$4:$P$203,'Turnos'!$B$4:$B$203,A5)) | L5: =IF(A5="","",SUMIFS('Turnos'!$Q$4:$Q$203,'Turnos'!$B$4:$B$203,A5)) | M5: =IF(A5="","",SUMIFS('Turnos'!$R$4:$R$203,'Turnos'!$B$4:$B$203,A5))
A6: 1003 | B6: =IF(A6="","",IFERROR(INDEX('Turnos'!$A$4:$A$203,MATCH(A6,'Turnos'!$B$4:$B$203,0)),"No está en Turnos")) | C6: =IF(A6="","",ROUND(SUMIFS('Turnos'!$D$4:$D$203,'Turnos'!$B$4:$B$203,A6),0)) | D6: =IF(A6="","",COUNTIF('Turnos'!$B$4:$B$203,A6)) | E6: =IF(A6="","",SUMIFS('Turnos'!$I$4:$I$203,'Turnos'!$B$4:$B$203,A6)) | F6: =IF(A6="","",SUMIFS('Turnos'!$K$4:$K$203,'Turnos'!$B$4:$B$203,A6)) | G6: =IF(A6="","",SUMIFS('Turnos'!$L$4:$L$203,'Turnos'!$B$4:$B$203,A6)) | H6: =IF(A6="","",SUMIFS('Turnos'!$M$4:$M$203,'Turnos'!$B$4:$B$203,A6)) | I6: =IF(A6="","",SUMIFS('Turnos'!$N$4:$N$203,'Turnos'!$B$4:$B$203,A6)) | J6: =IF(A6="","",SUMIFS('Turnos'!$O$4:$O$203,'Turnos'!$B$4:$B$203,A6)) | K6: =IF(A6="","",SUMIFS('Turnos'!$P$4:$P$203,'Turnos'!$B$4:$B$203,A6)) | L6: =IF(A6="","",SUMIFS('Turnos'!$Q$4:$Q$203,'Turnos'!$B$4:$B$203,A6)) | M6: =IF(A6="","",SUMIFS('Turnos'!$R$4:$R$203,'Turnos'!$B$4:$B$203,A6))
B7: =IF(A7="","",IFERROR(INDEX('Turnos'!$A$4:$A$203,MATCH(A7,'Turnos'!$B$4:$B$203,0)),"No está en Turnos")) | C7: =IF(A7="","",ROUND(SUMIFS('Turnos'!$D$4:$D$203,'Turnos'!$B$4:$B$203,A7),0)) | D7: =IF(A7="","",COUNTIF('Turnos'!$B$4:$B$203,A7)) | E7: =IF(A7="","",SUMIFS('Turnos'!$I$4:$I$203,'Turnos'!$B$4:$B$203,A7)) | F7: =IF(A7="","",SUMIFS('Turnos'!$K$4:$K$203,'Turnos'!$B$4:$B$203,A7)) | G7: =IF(A7="","",SUMIFS('Turnos'!$L$4:$L$203,'Turnos'!$B$4:$B$203,A7)) | H7: =IF(A7="","",SUMIFS('Turnos'!$M$4:$M$203,'Turnos'!$B$4:$B$203,A7)) | I7: =IF(A7="","",SUMIFS('Turnos'!$N$4:$N$203,'Turnos'!$B$4:$B$203,A7)) | J7: =IF(A7="","",SUMIFS('Turnos'!$O$4:$O$203,'Turnos'!$B$4:$B$203,A7)) | K7: =IF(A7="","",SUMIFS('Turnos'!$P$4:$P$203,'Turnos'!$B$4:$B$203,A7)) | L7: =IF(A7="","",SUMIFS('Turnos'!$Q$4:$Q$203,'Turnos'!$B$4:$B$203,A7)) | M7: =IF(A7="","",SUMIFS('Turnos'!$R$4:$R$203,'Turnos'!$B$4:$B$203,A7))
